BEGIN:VCALENDAR
VERSION:2.0
PRODID:-//ChamberMaster//Event Calendar 2.0//EN
METHOD:PUBLISH
X-PUBLISHED-TTL:P3D
REFRESH-INTERVAL:P3D
CALSCALE:GREGORIAN
BEGIN:VEVENT
DTSTART:20230819T140000Z
DTEND:20230819T150000Z
X-MICROSOFT-CDO-ALLDAYEVENT:FALSE
SUMMARY:Island Time with Guava Jelly
DESCRIPTION:ADMISSION: FREE\n\nCaribbean-influenced and family-fun\, Guava Jelly's reggae vibes are woven throughout the fabric of the band's culturally diverse music. Bridgette Michaels\, lead singer/songwriter born in Trinidad & Tobago\, smoothly incorporates the island feel into her originals and many popular\, well-known cover songs loved by all generations. \n\n \nFreeman Arts Pavilion Young Audience Series receives generous support from PNC Foundation:
X-ALT-DESC;FMTTYPE=text/html:<h6>ADMISSION: FREE</h6>\n\n<div>Caribbean-influenced and family-fun\, Guava Jelly&#39\;s reggae vibes are woven throughout the fabric of the band&rsquo\;s culturally diverse music. Bridgette Michaels\, lead singer/songwriter born in Trinidad &amp\; Tobago\, smoothly incorporates the island feel into her originals and many popular\, well-known cover songs loved by all generations.&nbsp\;<br />\n&nbsp\;\n<p>Freeman Arts Pavilion Young Audience Series&nbsp\;receives generous support from PNC Foundation:</p>\n</div>\n
LOCATION:Freeman Arts Pavilion a program of the Joshua M. Freeman Foundation is a champion of the arts on Delmarva\, providing diverse arts performances as well as arts access programs for local schools and the community at large. From June-September the Freeman Arts Pavilion is an open-air performance space showcasing music\, dance\, comedy\, theater\, children's programs\, and free events.
UID:e.2126.26127
SEQUENCE:3
DTSTAMP:20260420T230448Z
URL:http://business.thequietresorts.com/events/details/island-time-with-guava-jelly-26127
END:VEVENT

END:VCALENDAR
