BEGIN:VCALENDAR
VERSION:2.0
PRODID:-//ChamberMaster//Event Calendar 2.0//EN
METHOD:PUBLISH
X-PUBLISHED-TTL:P3D
REFRESH-INTERVAL:P3D
CALSCALE:GREGORIAN
BEGIN:VEVENT
DTSTART:20200318T220000Z
DTEND:20200319T000000Z
X-MICROSOFT-CDO-ALLDAYEVENT:FALSE
SUMMARY:'Iron Jawed Angels' Movie and Discussion
DESCRIPTION:To celebrate the Centennial of the 19th Amendment ratification\, the Joshua M. Freeman Foundation will host a free screening of "Iron Jawed Angels\," on Wednesday\, March 18 at Del Tech's Faucett Lecture Hall in Georgetown. This historical drama film focuses on the American women's suffrage movement during the 1910s and follows women's suffrage leaders Alice Paul and Lucy Burns as they use peaceful and effective nonviolent strategies\, tactics\, and dialogues to revolutionize the American feminist movement to grant women the right to vote. Post-screening discussion led by Joanne Guilfoil\, Ph.D.
X-ALT-DESC;FMTTYPE=text/html:<span style="font-size: 14px\;"><span style="font-family: arial\;">To celebrate the Centennial of the 19th Amendment ratification\, the Joshua M. Freeman Foundation will host a free screening of &quot\;Iron Jawed Angels\,&quot\; on Wednesday\, March 18 at Del Tech&#39\;s Faucett Lecture Hall in Georgetown. This historical drama film focuses on the American women&#39\;s suffrage movement during the 1910s and follows women&#39\;s suffrage leaders Alice Paul and Lucy Burns as they use peaceful and effective nonviolent strategies\, tactics\, and dialogues to revolutionize the American feminist movement to grant women the right to vote. Post-screening discussion led by Joanne Guilfoil\, Ph.D.</span></span>
LOCATION:Delaware Technical Community College Owens Campus\, Faucett Lecture Hall 21179 College Dr Georgetown\, DE 19947
UID:e.2126.20159
SEQUENCE:3
DTSTAMP:20260425T225304Z
URL:http://business.thequietresorts.com/events/details/iron-jawed-angels-movie-and-discussion-20159
END:VEVENT

END:VCALENDAR
