BEGIN:VCALENDAR
VERSION:2.0
PRODID:-//ChamberMaster//Event Calendar 2.0//EN
METHOD:PUBLISH
X-PUBLISHED-TTL:P3D
REFRESH-INTERVAL:P3D
CALSCALE:GREGORIAN
BEGIN:VEVENT
DTSTART:20240313T200000Z
DTEND:20240313T210000Z
X-MICROSOFT-CDO-ALLDAYEVENT:FALSE
SUMMARY:Irish Delights Cooking Demo with Chef Charles at Dickens Parlour
DESCRIPTION:St Patty's Day Cooking demo with Chef Charles in our beautiful dining room. Attendees will receive several of Chef Charles' recipes\, including a copy of the recipe that was prepared during the demo\, and food sampling.\n\nPlus the chance to win door prizes\, including a Special Pastry Dessert prepared by Chef Charles.
X-ALT-DESC;FMTTYPE=text/html:<p><strong>St Patty&#39\;s Day Cooking demo with Chef Charles in our beautiful dining room. Attendees will receive several of Chef Charles&#39\; recipes\, including a copy of the recipe that was prepared during the demo\, and food sampling.</strong></p>\n\n<p><strong>Plus the chance to win door prizes\, including a Special Pastry Dessert prepared by Chef Charles.</strong></p>\n
LOCATION:Dickens Parlour Theatre 31810 Good Earth Lane Ocean View\, DE 19970
UID:e.2126.28493
SEQUENCE:3
DTSTAMP:20260420T074048Z
URL:http://business.thequietresorts.com/events/details/irish-delights-cooking-demo-with-chef-charles-at-dickens-parlour-28493
END:VEVENT

END:VCALENDAR
