BEGIN:VCALENDAR
VERSION:2.0
PRODID:-//ChamberMaster//Event Calendar 2.0//EN
METHOD:PUBLISH
X-PUBLISHED-TTL:P3D
REFRESH-INTERVAL:P3D
CALSCALE:GREGORIAN
BEGIN:VEVENT
DTSTART:20221126T230000Z
DTEND:20221127T030000Z
X-MICROSOFT-CDO-ALLDAYEVENT:FALSE
SUMMARY:Indian River High School Soccer Social
DESCRIPTION:Indian River High School SOCCER SOCIAL    \n\nSaturday\, November 26\, 6pm-10pm\n\nat Mio Fratellos\n\n\n\n*Funds raised will support the Indian River High School Men's and Women's Soccer Program\n\n*Ticket includes dinner and non alchoholic drinks\, and dj.  Cash bar will be available\n\nPresentation of 2022 Hall of Fame Inductee's\n\n*Click on the link to purchase tickets
X-ALT-DESC;FMTTYPE=text/html:<div style="text-align: center\;"><span style="font-size:14px\;"><span style="font-family:arial\;"><strong>Indian River High School SOCCER SOCIAL&nbsp\;&nbsp\;&nbsp\;&nbsp\;</strong><br />\nSaturday\, November 26\,&nbsp\;6pm-10pm<br />\nat Mio Fratellos<br />\n<br />\n*Funds raised will support the Indian River High School Men&#39\;s and Women&#39\;s Soccer Program<br />\n*Ticket includes dinner and non alchoholic drinks\, and dj.&nbsp\; Cash bar will be available<br />\nPresentation of 2022 Hall of Fame Inductee&#39\;s<br />\n<strong>*Click on the link to purchase tickets</strong></span></span></div>\n
LOCATION:The Loft at Mio Fratellos 38016 Fenwick Shoals Blvd Shelbyville\, DE 19975
UID:e.2126.24863
SEQUENCE:3
DTSTAMP:20260421T142204Z
URL:http://business.thequietresorts.com/events/details/indian-river-high-school-soccer-social-24863
END:VEVENT

END:VCALENDAR
