BEGIN:VCALENDAR
VERSION:2.0
PRODID:-//ChamberMaster//Event Calendar 2.0//EN
METHOD:PUBLISH
X-PUBLISHED-TTL:P3D
REFRESH-INTERVAL:P3D
CALSCALE:GREGORIAN
BEGIN:VEVENT
DTSTART:20240523T230000Z
DTEND:20240524T003000Z
X-MICROSOFT-CDO-ALLDAYEVENT:FALSE
SUMMARY:Indian River High School's Tri-M Music Honor society Choir and Jazz Band.
DESCRIPTION:Indian River High School's Tri-M Music Honor society presents an evening of entertainment featuring the Select Choir and Jazz Band. Come enjoy an evening of great music while supporting our local High School. A portion of the proceeds go to IRHS Music Department.
X-ALT-DESC;FMTTYPE=text/html:<p><span style="color:rgb(0\, 0\, 0)">Indian River High School&#39\;s Tri-M Music Honor society presents an evening of entertainment featuring the Select Choir and Jazz Band.&nbsp\;</span><span style="color:rgb(0\, 0\, 0)">Come enjoy an evening of great music while supporting our local High School. A portion of the proceeds go to IRHS Music Department.</span></p>\n
LOCATION:Dickens Parlour Theatre 31810 Good Earth Lane Ocean View\, DE 19970
UID:e.2126.29929
SEQUENCE:3
DTSTAMP:20260420T042320Z
URL:http://business.thequietresorts.com/events/details/indian-river-high-school-s-tri-m-music-honor-society-choir-and-jazz-band-29929
END:VEVENT

END:VCALENDAR
