BEGIN:VCALENDAR
VERSION:2.0
PRODID:-//ChamberMaster//Event Calendar 2.0//EN
METHOD:PUBLISH
X-PUBLISHED-TTL:P3D
REFRESH-INTERVAL:P3D
CALSCALE:GREGORIAN
BEGIN:VEVENT
DTSTART;VALUE=DATE:20231013
DTEND;VALUE=DATE:20231015
TRANSP:TRANSPARENT
X-MICROSOFT-CDO-ALLDAYEVENT:TRUE
SUMMARY:Inaugural James Farm Photo Challenge
DESCRIPTION:Capture the beauty of James Farm Ecological Preserve during a 2-day "live" photography competition. Explore the preserve\, soaking in the natural wonder of James Farm with your senses and lenses.\n\nCategories for Submissions:\n\n\n	Landscape/Seascape\n	Human Connection\n	Wildlife\n\n\nChallenge Details:\n\n\n	Images must be taken at the preserve between October 13-14\, 2023\n	Winners will be selected for both adult and youth categories\n	Please read the full challenge rules by clicking here\n\n\nEntry fee: $25 for adults\, $10 for youth (under 18)\n\nProceeds to benefit the Delaware Center for the Inland Bays. Due to the charitable nature of this event\, entry fees are non-refundable.\n\nPrizes: \n\nPrizes will be awarded in the following categories.\n\n\n	Wildlife\n	Landscape/Seascape\n	Human Connection\n\n\nGrand Prize winners (one Adult & one Youth) in each category will receive:\n\n\n	Photographs to be displayed at the Center Headquarters for one year.\n	Gift Cards\n	Center swag.\n\n\nFirst Prize & Runner Up will also be awarded in each category:\n\n\n	Center swag\n\n\nThe James Farm Photo Challenge is made possible with support from Coastal Camera Club\, Sharon Denny Photography and the Rehoboth Art League.  \n\n\n\nTo register\, visit: https://inlandbays.harnessgiving.org/events/759
X-ALT-DESC;FMTTYPE=text/html:<p>Capture the beauty of James Farm Ecological Preserve during a 2-day &ldquo\;live&rdquo\; photography competition. Explore the preserve\, soaking in the natural wonder of James Farm with your senses and lenses.</p>\n\n<p>Categories for Submissions:</p>\n\n<ul>\n	<li>Landscape/Seascape</li>\n	<li>Human Connection</li>\n	<li>Wildlife</li>\n</ul>\n\n<p>Challenge Details:</p>\n\n<ul>\n	<li>Images&nbsp\;must&nbsp\;be taken at the preserve between&nbsp\;October 13-14\, 2023</li>\n	<li>Winners will be selected for both adult and youth categories</li>\n	<li>Please read the full challenge rules by&nbsp\;<a href="https://www.inlandbays.org/wp-content/uploads/James-Farm-Photo-Contest-Rules.pdf" style="box-sizing: border-box\; color: var(--primary)\; text-decoration: none\;">clicking here</a></li>\n</ul>\n\n<p>Entry fee: $25 for adults\, $10 for youth (under 18)</p>\n\n<p>Proceeds to benefit the Delaware Center for the Inland Bays. Due to the charitable nature of this event\, entry fees are non-refundable.</p>\n\n<p>Prizes:&nbsp\;</p>\n\n<p>Prizes will be awarded&nbsp\;in the following categories.</p>\n\n<ul>\n	<li>Wildlife</li>\n	<li>Landscape/Seascape</li>\n	<li>Human Connection</li>\n</ul>\n\n<p>Grand Prize winners (one Adult &amp\; one Youth) in each category will receive:</p>\n\n<ul>\n	<li>Photographs to be displayed at the Center Headquarters for one year.</li>\n	<li>Gift Cards</li>\n	<li>Center swag.</li>\n</ul>\n\n<p>First Prize &amp\; Runner Up will also be awarded in each category:</p>\n\n<ul>\n	<li>Center swag</li>\n</ul>\n\n<p>The James Farm Photo Challenge is made possible with support from Coastal Camera Club\, Sharon Denny Photography and the Rehoboth Art League. &nbsp\;<br />\n<br />\nTo register\, visit:&nbsp\;<a href="https://inlandbays.harnessgiving.org/events/759">https://inlandbays.harnessgiving.org/events/759</a></p>\n
LOCATION:30048 Cedar Neck Road Ocean View\, DE\, 19970
UID:e.2126.26947
SEQUENCE:3
DTSTAMP:20260420T183135Z
URL:http://business.thequietresorts.com/events/details/inaugural-james-farm-photo-challenge-26947
END:VEVENT

END:VCALENDAR
