BEGIN:VCALENDAR
VERSION:2.0
PRODID:-//ChamberMaster//Event Calendar 2.0//EN
METHOD:PUBLISH
X-PUBLISHED-TTL:P3D
REFRESH-INTERVAL:P3D
CALSCALE:GREGORIAN
BEGIN:VEVENT
DTSTART;VALUE=DATE:20200729
DTEND;VALUE=DATE:20200914
TRANSP:TRANSPARENT
X-MICROSOFT-CDO-ALLDAYEVENT:TRUE
SUMMARY:Inaugural Hope for Livi Virtual 5k Run Walk
DESCRIPTION:Help raise funds to offset medical expenses for Livi Pejo\, who was critically injured by an impaired driver the day after she completed the 2017 Dewey Sprint Triatholon.\n\n\n\nFor Livi's story click here \n\n\n\nRegister HERE
X-ALT-DESC;FMTTYPE=text/html:Help raise funds to offset medical expenses for Livi Pejo\, who was critically injured by an impaired driver the day after she completed the 2017 Dewey Sprint Triatholon.<br />\n<br />\nFor Livi&#39\;s story click <a href="https://www.capegazette.com/article/paralyzed-athlete-determined-overcome-injury/188785">here</a>&nbsp\;<br />\n<br />\nRegister <a href="https://raceroster.com/events/2020/28347/inaugural-hope-for-livi-5k-run-walk"><strong>HERE</strong></a><br />\n<br />\n<br />\n<br />\n&nbsp\;
LOCATION:This is a virtual event\, participate from anywhere!
UID:e.2126.21747
SEQUENCE:3
DTSTAMP:20260425T131310Z
URL:http://business.thequietresorts.com/events/details/inaugural-hope-for-livi-virtual-5k-run-walk-21747
END:VEVENT

END:VCALENDAR
