BEGIN:VCALENDAR
VERSION:2.0
PRODID:-//ChamberMaster//Event Calendar 2.0//EN
METHOD:PUBLISH
X-PUBLISHED-TTL:P3D
REFRESH-INTERVAL:P3D
CALSCALE:GREGORIAN
BEGIN:VEVENT
DTSTART:20230907T223000Z
DTEND:20230908T003000Z
X-MICROSOFT-CDO-ALLDAYEVENT:FALSE
SUMMARY:Iceberg HO! An Interactive Dinner Show
DESCRIPTION:All aboard! You are invited to the maiden voyage of the S.S. Gigantic! The year is 1928. The champagne is flowing\, and the guest list is brimming with celebrities and movie stars. It is all glitz and glamour until someone steals the "Abandon-All-Hope-Diamond" from the silent screen star\, Miss Gloria Swansong\, and all the radar and iceberg detection devices suddenly fail. It is up to YOU\, the dining patron\, to help solve this hilarious whodunit.
X-ALT-DESC;FMTTYPE=text/html:<span style="background-color:rgb(255\, 255\, 255)\; font-family:tahoma\,geneva\,sans-serif\; font-size:14px">All aboard! You are invited to the maiden voyage of the S.S. Gigantic! The year is 1928. The champagne is flowing\, and the guest list is brimming with celebrities and movie stars. It is all glitz and glamour until someone steals the &ldquo\;Abandon-All-Hope-Diamond&rdquo\; from the silent screen star\, Miss Gloria Swansong\, and all the radar and iceberg detection devices suddenly fail. It is up to&nbsp\;</span><span style="background-color:rgb(255\, 255\, 255)\; font-family:tahoma\,geneva\,sans-serif\; font-size:14px">YOU</span><span style="background-color:rgb(255\, 255\, 255)\; font-family:tahoma\,geneva\,sans-serif\; font-size:14px">\, the dining patron\, to help solve this hilarious whodunit.</span>
LOCATION:Dickens Parlour Theatre 31810 Good Earth Lane Ocean View\, DE 19970
UID:e.2126.26615
SEQUENCE:3
DTSTAMP:20260420T195534Z
URL:http://business.thequietresorts.com/events/details/iceberg-ho-an-interactive-dinner-show-26615
END:VEVENT

END:VCALENDAR
