BEGIN:VCALENDAR
VERSION:2.0
PRODID:-//ChamberMaster//Event Calendar 2.0//EN
METHOD:PUBLISH
X-PUBLISHED-TTL:P3D
REFRESH-INTERVAL:P3D
CALSCALE:GREGORIAN
BEGIN:VEVENT
DTSTART:20200402T130000Z
DTEND:20200402T170000Z
X-MICROSOFT-CDO-ALLDAYEVENT:FALSE
SUMMARY:Howard T. Ennis Transition Job Fair
DESCRIPTION:THIS EVENT HAS BEEN CANCELLED\n\n\n\nLocal businesses are invited to attend the Howard T. Ennis Transition Job Fair. Speak with both students and agency representatives who provide job support in our community.\n\n\n\nLearn about the advantages of hiring individuals with special needs or disabilities and enjoy lunch on us!
X-ALT-DESC;FMTTYPE=text/html:<strong><em><span style="color:#FF0000\;">THIS EVENT HAS BEEN CANCELLED</span></em></strong><br />\n<br />\nLocal businesses are invited to attend the Howard T. Ennis Transition Job Fair. Speak with both students and agency representatives who provide job support in our community.<br />\n<br />\nLearn about the advantages of hiring individuals with special needs or disabilities and enjoy lunch on us!<br />\n<br />\n&nbsp\;
LOCATION:Howard T. Ennis School 20346 Ennis St. Georgetown\, DE 19947
UID:e.2126.20274
SEQUENCE:3
DTSTAMP:20260425T225225Z
URL:http://business.thequietresorts.com/events/details/howard-t-ennis-transition-job-fair-20274
END:VEVENT

END:VCALENDAR
