BEGIN:VCALENDAR
VERSION:2.0
PRODID:-//ChamberMaster//Event Calendar 2.0//EN
METHOD:PUBLISH
X-PUBLISHED-TTL:P3D
REFRESH-INTERVAL:P3D
CALSCALE:GREGORIAN
BEGIN:VEVENT
DTSTART:20200424T150000Z
DTEND:20200424T160000Z
X-MICROSOFT-CDO-ALLDAYEVENT:FALSE
SUMMARY:How to Stay in Business During The Great Shutdown
DESCRIPTION:Delaware SCORE wants to help you not only survive The Great Shutdown\, but to continue to thrive during and after The Shutdown. The following checklist may help you sustain your business during the medical\, social and economic responses to the coronavirus (COVID-19).
X-ALT-DESC;FMTTYPE=text/html:<br />\n<span style="font-family:arial\;"><span style="font-size:14px\;">Delaware SCORE wants to help you not only survive The Great Shutdown\, but to continue to thrive during and after The Shutdown. The following checklist may help you sustain your business during the medical\, social and economic responses to the coronavirus (COVID-19).</span></span><br />\n&nbsp\;
LOCATION:Register Here http://events.constantcontact.com/register/event?llr=hg69x9dab&oeidk=a07eh1vz3jt90f7ef5b
UID:e.2126.21514
SEQUENCE:3
DTSTAMP:20260425T212415Z
URL:http://business.thequietresorts.com/events/details/how-to-stay-in-business-during-the-great-shutdown-21514
END:VEVENT

END:VCALENDAR
