BEGIN:VCALENDAR
VERSION:2.0
PRODID:-//ChamberMaster//Event Calendar 2.0//EN
METHOD:PUBLISH
X-PUBLISHED-TTL:P3D
REFRESH-INTERVAL:P3D
CALSCALE:GREGORIAN
BEGIN:VEVENT
DTSTART:20231001T223000Z
DTEND:20231002T010000Z
X-MICROSOFT-CDO-ALLDAYEVENT:FALSE
SUMMARY:Hot Sauce Band
DESCRIPTION:Hot Sauce Band was formed by front man and maestro David Aman. David grew up in Italy and Spain and studied Spanish guitar in Madrid. This party band plays Latin music of all types from Mexico to Venezuela to Brazil and of course the music of Spain.
X-ALT-DESC;FMTTYPE=text/html:Hot Sauce Band was formed by front man and maestro David Aman. David grew up in Italy and Spain and studied Spanish guitar in Madrid. This party band plays Latin music of all types from Mexico to Venezuela to Brazil and of course the music of Spain.&nbsp\;
LOCATION:Bethany Beach Bandstand
UID:e.2126.26638
SEQUENCE:3
DTSTAMP:20260420T182130Z
URL:http://business.thequietresorts.com/events/details/hot-sauce-band-26638
END:VEVENT

END:VCALENDAR
