BEGIN:VCALENDAR
VERSION:2.0
PRODID:-//ChamberMaster//Event Calendar 2.0//EN
METHOD:PUBLISH
X-PUBLISHED-TTL:P3D
REFRESH-INTERVAL:P3D
CALSCALE:GREGORIAN
BEGIN:VEVENT
DTSTART:20221002T220000Z
DTEND:20221002T233000Z
X-MICROSOFT-CDO-ALLDAYEVENT:FALSE
SUMMARY:Hot Sauce
DESCRIPTION:Hot Sauce Band was formed by front man and maestro David Aman. David grew up in Italy and Spain and studied Spanish guitar in Madrid. This party band plays Latin music of all types from Mexico to Venezuela to Brazil and of course the music of Spain.
X-ALT-DESC;FMTTYPE=text/html:Hot Sauce Band was formed by front man and maestro David Aman. David grew up in Italy and Spain and studied Spanish guitar in Madrid. This party band plays Latin music of all types from Mexico to Venezuela to Brazil and of course the music of Spain.
LOCATION:Bethany Beach Bandstand
UID:e.2126.24039
SEQUENCE:3
DTSTAMP:20260421T160443Z
URL:http://business.thequietresorts.com/events/details/hot-sauce-24039
END:VEVENT

END:VCALENDAR
