BEGIN:VCALENDAR
VERSION:2.0
PRODID:-//ChamberMaster//Event Calendar 2.0//EN
METHOD:PUBLISH
X-PUBLISHED-TTL:P3D
REFRESH-INTERVAL:P3D
CALSCALE:GREGORIAN
BEGIN:VEVENT
DTSTART;VALUE=DATE:20230926
DTEND;VALUE=DATE:20231113
TRANSP:TRANSPARENT
X-MICROSOFT-CDO-ALLDAYEVENT:TRUE
SUMMARY:Horseshoe Crab Hustle - Sponsorship Opportunities
DESCRIPTION:The Horseshoe Crab Hustle is a brand new 5K & 1 mile walk hosted by Bethany Brewing to benefit the Delaware Center for the Inland Bays. The event begins and ends at Bethany Brewing and will primarily take place on the trails of Fresh Pond State Park. Registrants will not only enjoy a fall run/walk surrounded by the beauty of nature\, but will have the opportunity to enjoy fresh brewed craft beers\, tasty post-race fare\, fresh shucked oysters\, live music\, raffles to benefit the bays\, and lost of fun all while supporting the mission of the Center to protect\, restore\, and preserve the Inland Bays. The Center will also have information tables about their various projects and programs\, and learn about how to get on board with the bays.\n\n\n\nThere are a several tiers for sponsorship levels:\n\n\n\nHorseshoe Crab Hero $1000\n\n	Six event entry tickets\n	Logo on race website\n	Social media recognition\n	Logo on event tee shirt\n\nWatershed Warrior $500\n\n\n	Four event entry tickets\n	Logo on race website\n	Social media recognition\n	Logo on event tee shirt\n\nBay Buddy $250\n\n\n	Two event entry tickets\n	Logo on race website\n	Name on event tee shirt\n	Opportunity to table at event\n\nHustle Teammate $100\n\n\n	One event entry ticket\n	Logo on race website\n	Name on event tee shirt\n\nChecks can be made payable to Bethany Brewing or you can pay by card. \n\n\n\nFor more information\, email Ellen Davies at info@bethanybrewing.net.\n\n\n\nBe sure to email your logo to info@bethanybrewing.net and shirt sizes.
X-ALT-DESC;FMTTYPE=text/html:The Horseshoe Crab Hustle is a brand new 5K &amp\; 1 mile walk hosted by Bethany Brewing to benefit the Delaware Center for the Inland Bays. The event begins and ends at Bethany Brewing and will primarily take place on the trails of Fresh Pond State Park. Registrants will not only enjoy a fall run/walk surrounded by the beauty of nature\, but will have the opportunity to enjoy fresh brewed craft beers\, tasty post-race fare\, fresh shucked oysters\, live music\, raffles to benefit the bays\, and lost of fun all while supporting the mission of the Center to protect\, restore\, and preserve the Inland Bays. The Center will also have information tables about their various projects and programs\, and learn about how to get on board with the bays.<br />\n<br />\nThere are a several tiers for sponsorship levels:<br />\n<br />\nHorseshoe Crab Hero $1000\n<ul>\n	<li>Six event entry tickets</li>\n	<li>Logo on race website</li>\n	<li>Social media recognition</li>\n	<li>Logo on event tee shirt</li>\n</ul>\nWatershed Warrior $500\n\n<ul>\n	<li>Four event entry tickets</li>\n	<li>Logo on race website</li>\n	<li>Social media recognition</li>\n	<li>Logo on event tee shirt</li>\n</ul>\nBay Buddy $250\n\n<ul>\n	<li>Two event entry tickets</li>\n	<li>Logo on race website</li>\n	<li>Name on event tee shirt</li>\n	<li>Opportunity to table at event</li>\n</ul>\nHustle Teammate $100\n\n<ul>\n	<li>One event entry ticket</li>\n	<li>Logo on race website</li>\n	<li>Name on event tee shirt</li>\n</ul>\nChecks can be made payable to Bethany Brewing or you can pay by card.&nbsp\;<br />\n<br />\nFor more information\, email Ellen Davies at info@bethanybrewing.net.<br />\n<br />\nBe sure to email your logo to info@bethanybrewing.net and shirt sizes.
LOCATION:Bethany Brewing 38450 Hickman Rd. Ocean View\, DE 19940
UID:e.2126.26961
SEQUENCE:3
DTSTAMP:20260420T164846Z
URL:http://business.thequietresorts.com/events/details/horseshoe-crab-hustle-sponsorship-opportunities-26961
END:VEVENT

END:VCALENDAR
