BEGIN:VCALENDAR
VERSION:2.0
PRODID:-//ChamberMaster//Event Calendar 2.0//EN
METHOD:PUBLISH
X-PUBLISHED-TTL:P3D
REFRESH-INTERVAL:P3D
CALSCALE:GREGORIAN
BEGIN:VEVENT
DTSTART:20231008T150000Z
DTEND:20231008T180000Z
X-MICROSOFT-CDO-ALLDAYEVENT:FALSE
SUMMARY:Homes for Dogs Project - Pet Adoption at Coldwell Banker
DESCRIPTION:The difference between a house and a home is love   and sometimes the smallest things are all it takes to fill that void. This sentiment is also why Coldwell Banker founded the Homes for Dogs Project aimed at helping adoptable dogs find loving homes. This year\, we are partnering with Brandywine Valley SPCA so If you are looking for your forever fur friend\, please stop by our office located at 89 Atlantic Ave\, Ocean View\, DE to adopt a dog in need of your love and companionship. Help us help these dogs find the comfort of home that they so much deserve and need.
X-ALT-DESC;FMTTYPE=text/html:<span style="background-color:rgb(255\, 255\, 255)\; color:rgb(5\, 5\, 5)\; font-family:segoe ui historic\,segoe ui\,helvetica\,arial\,sans-serif\; font-size:15px">The difference between a house and a home is love &ndash\; and sometimes the smallest things are all it takes to fill that void. This sentiment is also why Coldwell Banker founded the Homes for Dogs Project aimed at helping adoptable dogs find loving homes. This year\, we are partnering with Brandywine Valley SPCA so If you are looking for your forever fur friend\, please stop by our office located at 89 Atlantic Ave\, Ocean View\, DE to adopt a dog in need of your love and companionship. Help us help these dogs find the comfort of home that they so much deserve and need.</span>
LOCATION:Coldwell Banker Realtor 89 Atlantic Ave. Ocean View\, DE 19970
UID:e.2126.24517
SEQUENCE:3
DTSTAMP:20260420T183321Z
URL:http://business.thequietresorts.com/events/details/homes-for-dogs-project-pet-adoption-at-coldwell-banker-24517
END:VEVENT

END:VCALENDAR
