BEGIN:VCALENDAR
VERSION:2.0
PRODID:-//ChamberMaster//Event Calendar 2.0//EN
METHOD:PUBLISH
X-PUBLISHED-TTL:P3D
REFRESH-INTERVAL:P3D
CALSCALE:GREGORIAN
BEGIN:VEVENT
DTSTART:20221124T010000Z
DTEND:20221124T040000Z
X-MICROSOFT-CDO-ALLDAYEVENT:FALSE
SUMMARY:Friendsgiving Party at The Salted Rim
DESCRIPTION:The Salted Rim\n\n\n\nFriendsgiving Party\n\n\n\nWednesday\, November 23\n\nFood & Drink Specials \n\n5:00pm - Close\n\n \n\nTeam Trivia 7:00 - 8:30pm\n\nDJ Josh  8:30 -11:00pm\n\n \n\n$  2.50 - Natty's\n\n$  3.00 - Fireball\n\n$  3.00 - Green Tea Shots\n\n$  6.00 - Margaritas & Crushes\n\n$10.00 - Wings (8)\n\n$  9.00 - Build-a-Burger\n\n$  5.00 - Tacos (ea) (beef or chicken or traditional)\n\n$  6.00 - Tacos (ea) (shrimp or fish)\n\n\n\nSpend time with family\, celebrate with friends\n\nand remember to give thanks for your blessings!
X-ALT-DESC;FMTTYPE=text/html:<div style="text-align:center"><span style="color:#0000FF"><span style="font-family:verdana"><span style="font-size:18px">The Salted Rim</span></span></span><br />\n<br />\n<span style="color:#FF0000"><strong><em><span style="font-family:comic sans ms"><span style="font-size:22px">Friendsgiving Party</span></span></em></strong></span><br />\n<br />\n<span style="font-size:16px">Wednesday\, November 23<br />\nFood &amp\; Drink Specials&nbsp\;</span><br />\n<span style="font-size:16px">5:00pm - Close</span></div>\n\n<div style="text-align:center">&nbsp\;</div>\n\n<div style="text-align:center"><span style="font-size:16px">Team Trivia 7:00 - 8:30pm<br />\nDJ Josh&nbsp\; 8:30 -11:00pm</span><br />\n&nbsp\;</div>\n\n<div style="margin-left: 200px\;">$&nbsp\; 2.50 - Natty&#39\;s<br />\n$&nbsp\; 3.00 - Fireball<br />\n$&nbsp\; 3.00 - Green Tea Shots<br />\n$&nbsp\; 6.00 - Margaritas &amp\; Crushes<br />\n$10.00 - Wings (8)<br />\n$&nbsp\; 9.00 - Build-a-Burger<br />\n$&nbsp\; 5.00 - Tacos (ea) (beef or chicken or traditional)<br />\n$&nbsp\; 6.00 - Tacos (ea) (shrimp or fish)</div>\n\n<div style="text-align:center"><br />\n<span style="font-size:16px"><span style="color:#FF0000"><em>Spend time with family\, celebrate with friends<br />\nand remember to give thanks for your blessings!</em></span></span></div>\n
LOCATION:The Salted Rim Margarita Bar & Grille 35553 Atlantic Avenue Millville\, DE 19967 302-537-7373 www.saltedrimde.com
UID:e.2126.24778
SEQUENCE:3
DTSTAMP:20260421T142302Z
URL:http://business.thequietresorts.com/events/details/homecoming-party-at-the-salted-rim-24778
END:VEVENT

END:VCALENDAR
