BEGIN:VCALENDAR
VERSION:2.0
PRODID:-//ChamberMaster//Event Calendar 2.0//EN
METHOD:PUBLISH
X-PUBLISHED-TTL:P3D
REFRESH-INTERVAL:P3D
CALSCALE:GREGORIAN
BEGIN:VEVENT
DTSTART:20220607T140000Z
DTEND:20220607T160000Z
X-MICROSOFT-CDO-ALLDAYEVENT:FALSE
SUMMARY:Home-Based Ribbon Cutting Ceremony
DESCRIPTION:Join Barbs Partylite Candles\, Beach Runners\, Grand Welcome - Delmarva\, and Oasis Senior Advisors Delaware for the Ribbon Cutting of their Home Based Businesses.  We will be celebrating our four home based businesses on Tuesday\, June 7th at 10am at the Chamber office in Fenwick Island.  \n\n\n\nStop in to enjoy light refreshments and take home some swag. Enjoy getting to know other chamber members\, and meeting Barb\, Shannon\, Todd\, Tracy and the rest of thier teams!
X-ALT-DESC;FMTTYPE=text/html:Join Barbs Partylite Candles\, Beach Runners\, Grand Welcome - Delmarva\, and Oasis Senior Advisors Delaware for the Ribbon Cutting of their Home Based Businesses.&nbsp\; We will be celebrating our four home based businesses on Tuesday\, June 7th at 10am at the Chamber office in Fenwick Island.&nbsp\;&nbsp\;<br />\n<br />\n<span style="color: rgb(37\, 32\, 26)\; font-family: Arial\; font-size: 15px\;">Stop in to enjoy light refreshments and take home some swag. Enjoy getting to know other chamber members\, and meeting Barb\, Shannon\, Todd\, Tracy and the rest of thier teams!</span><br />\n&nbsp\;
LOCATION:The Bethany-Fenwick Area Chamber of Commerce 36913 Coastal Highway Fenwick Island\, DE 19944
UID:e.2126.23745
SEQUENCE:3
DTSTAMP:20260421T223200Z
URL:http://business.thequietresorts.com/events/details/home-based-ribbon-cutting-ceremony-23745
END:VEVENT

END:VCALENDAR
