BEGIN:VCALENDAR
VERSION:2.0
PRODID:-//ChamberMaster//Event Calendar 2.0//EN
METHOD:PUBLISH
X-PUBLISHED-TTL:P3D
REFRESH-INTERVAL:P3D
CALSCALE:GREGORIAN
BEGIN:VEVENT
DTSTART:20200814T000000Z
DTEND:20200814T020000Z
X-MICROSOFT-CDO-ALLDAYEVENT:FALSE
SUMMARY:Home Again: A Tribute to the Music of Carole King
DESCRIPTION:Home Again is a tribute to the multi-award-winning singer-songwriter Carole King. Deb De Lucca\, joined by her band of seasoned musicians\, takes the audience on a journey through Carole's impressive & expansive repertoire. Carole King made her mark with 'Tapestry' in 1971 but was already a well-established songwriter for over a decade. She wrote more than two dozen chart hits\, many of which have become standards\, for numerous artists such as: The Shirelles\, The Chiffons\, The Drifters\, The Carpenters\, The Monkees\, Herman's Hermits\, Bobby Vee & many more. Home Again is a true celebration of Carole King's anthology and captures the "Beautiful" spirit of a unique time in music history.
X-ALT-DESC;FMTTYPE=text/html:<span style="font-size: 14px\;"><span style="font-family: arial\;">Home Again is a tribute to the multi-award-winning singer-songwriter Carole King. Deb De Lucca\, joined by her band of seasoned musicians\, takes the audience on a journey through Carole&#39\;s impressive &amp\; expansive repertoire. Carole King made her mark with &#39\;Tapestry&#39\; in 1971 but was already a well-established songwriter for over a decade. She wrote more than two dozen chart hits\, many of which have become standards\, for numerous artists such as: The Shirelles\, The Chiffons\, The Drifters\, The Carpenters\, The Monkees\, Herman&#39\;s Hermits\, Bobby Vee &amp\; many more. Home Again is a true celebration of Carole King&#39\;s anthology and captures the &quot\;Beautiful&quot\; spirit of a unique time in music history.</span></span>
LOCATION:The Freeman Stage 31750 Lake View Drive Selbyville\, DE 19975
UID:e.2126.21714
SEQUENCE:3
DTSTAMP:20260425T145423Z
URL:http://business.thequietresorts.com/events/details/home-again-a-tribute-to-the-music-of-carole-king-21714
END:VEVENT

END:VCALENDAR
