BEGIN:VCALENDAR
VERSION:2.0
PRODID:-//ChamberMaster//Event Calendar 2.0//EN
METHOD:PUBLISH
X-PUBLISHED-TTL:P3D
REFRESH-INTERVAL:P3D
CALSCALE:GREGORIAN
BEGIN:VEVENT
DTSTART;VALUE=DATE:20221015
DTEND;VALUE=DATE:20221016
TRANSP:TRANSPARENT
X-MICROSOFT-CDO-ALLDAYEVENT:TRUE
SUMMARY:Holts Landing State Park Trail Walk with Park Naturalist
DESCRIPTION:Hike the Sea Hawk Trail at Holts Landing State Park\n\nHike the Sea Hawk Trail with a naturalist and explore the many habitats within this hidden gem of a park! This 1.3-mile trail meanders through hardwood forest\, meadow\, salt marsh and freshwater bog habitats.\n\n\n\nPre-registration required. Call 302-227-6991 to register. $5 per person
X-ALT-DESC;FMTTYPE=text/html:<article background-color:="" font-size:="" helvetica="" style="box-sizing: border-box\; color: rgb(51\, 51\, 51)\; font-family: ">\n<article background-color:="" font-size:="" helvetica="" style="box-sizing: border-box\; color: rgb(51\, 51\, 51)\; font-family: ">\n<h4 class="titleList" style="box-sizing: border-box\; font-family: Lato\, sans-serif\; line-height: 1.5\; margin-top: 10px\; margin-bottom: 10px\; font-size: 1.3em\; color: rgb(0\, 75\, 135)\;"><span style="font-size:14px\;"><span style="font-family:arial\;">Hike the Sea Hawk Trail at Holts Landing State Park</span></span></h4>\n\n<p class="titleList" style="box-sizing: border-box\; margin: 0px 0px 10px\; line-height: 17.5px\; font-family: Lato\, sans-serif\;"><span style="font-size:14px\;"><span style="font-family:arial\;">Hike the Sea Hawk Trail with a naturalist and explore the many habitats within this hidden gem of a park! This 1.3-mile trail meanders through hardwood forest\, meadow\, salt marsh and freshwater bog habitats.<br />\n<br />\nPre-registration required. Call 302-227-6991 to register. $5 per person</span></span></p>\n\n<p style="box-sizing: border-box\; margin: 0px 0px 10px\; line-height: 17.5px\; font-family: Lato\, sans-serif\;">&nbsp\;</p>\n</article>\n</article>\n
LOCATION:Holts Landing State Park
UID:e.2126.24267
SEQUENCE:3
DTSTAMP:20260421T173241Z
URL:http://business.thequietresorts.com/events/details/holts-landing-state-park-trail-walk-with-park-naturalist-24267
END:VEVENT

END:VCALENDAR
