BEGIN:VCALENDAR
VERSION:2.0
PRODID:-//ChamberMaster//Event Calendar 2.0//EN
METHOD:PUBLISH
X-PUBLISHED-TTL:P3D
REFRESH-INTERVAL:P3D
CALSCALE:GREGORIAN
BEGIN:VEVENT
DTSTART:20220726T220000Z
DTEND:20220727T000000Z
X-MICROSOFT-CDO-ALLDAYEVENT:FALSE
SUMMARY:Holts Landing State Park - Free Summer Concerts in the Park
DESCRIPTION:Holts Landing State Park \n\n2022 Free Summer Concerts in the Park\n\n\n\nPerforming: Mark Lentz Classic & Original Rock\n\n\n\nIt is with great pride and pleasure we can announce our summer concert and performance series on Tuesday nights at Holts Landing State Park.
X-ALT-DESC;FMTTYPE=text/html:Holts Landing State Park&nbsp\;<br />\n2022 Free Summer Concerts in the Park<br />\n<br />\n<span style="font-size:14px\;"><em><strong>Performing: Mark Lentz Classic &amp\; Original Rock</strong></em></span><br />\n<br />\nIt is with great pride and pleasure we can announce our summer concert and performance series on Tuesday nights at Holts Landing State Park.
LOCATION:Holts Landing Road Park 39415 Inlet Rd.\, Rehoboth Beach\, Dagsboro\, DE 19939
UID:e.2126.23781
SEQUENCE:3
DTSTAMP:20260421T205539Z
URL:http://business.thequietresorts.com/events/details/holts-landing-state-park-free-summer-concerts-in-the-park-23781
END:VEVENT

END:VCALENDAR
