BEGIN:VCALENDAR
VERSION:2.0
PRODID:-//ChamberMaster//Event Calendar 2.0//EN
METHOD:PUBLISH
X-PUBLISHED-TTL:P3D
REFRESH-INTERVAL:P3D
CALSCALE:GREGORIAN
BEGIN:VEVENT
DTSTART:20191216T200000Z
DTEND:20191216T230000Z
X-MICROSOFT-CDO-ALLDAYEVENT:FALSE
SUMMARY:Holiday Traditions
DESCRIPTION:This holiday season\, the Lewes History Museum will celebrate the diversity and cultures that have been historically celebrated and observed in Lewes. Join us in creating your own holiday decorations and learn about the various traditions celebrated in this historic coastal town throughout history. Tickets available at the Lewes History Museum and online at https://shop.historiclewes.org/collections/tour/products/holiday-traditions-december-16-2019
X-ALT-DESC;FMTTYPE=text/html:<span style="font-family: arial\;"><span style="font-size: 14px\;">This holiday season\, the Lewes History Museum will celebrate the diversity and cultures that have been historically celebrated and observed in Lewes. Join us in creating your own holiday decorations and learn about the various traditions celebrated in this historic coastal town throughout history. Tickets available at the Lewes History Museum and online at <a href="https://shop.historiclewes.org/collections/tour/products/holiday-traditions-december-16-2019"><font color="#0066cc">https://shop.historiclewes.org/collections/tour/products/holiday-traditions-december-16-2019</font></a></span></span>
LOCATION:The Lewes History Museum Margaret H. Rollins Community Center 101 Adams Ave Lewes\, DE 19958
UID:e.2126.19435
SEQUENCE:3
DTSTAMP:20260426T034423Z
URL:http://business.thequietresorts.com/events/details/holiday-traditions-19435
END:VEVENT

END:VCALENDAR
