BEGIN:VCALENDAR
VERSION:2.0
PRODID:-//ChamberMaster//Event Calendar 2.0//EN
METHOD:PUBLISH
X-PUBLISHED-TTL:P3D
REFRESH-INTERVAL:P3D
CALSCALE:GREGORIAN
BEGIN:VEVENT
DTSTART:20221111T163000Z
DTEND:20221224T030000Z
X-MICROSOFT-CDO-ALLDAYEVENT:FALSE
SUMMARY:HOLIDAY RETAIL SALE at The Salted Rim
DESCRIPTION:Holiday Retail Sale\n\n\n\nNovember 11 - December 23\n\n\n\n25% OFF\n\n\n\nALL\n\nShirts     Hats     Sweats     Merchandise\n\n\n\nWhile Supplies Last!\n\n\n\n\n\nAlso join us on\n\nWednesday\, November 23rd for Friendsgiving Party\n\nFood & Drink Specials 5:00-Close\n\nEntertainment by DJ Josh 8:30-11:00pm\n\n\n\n\n\nMark your calendar for our Black Friday Gift Card Sales\n\nFriday\, November 25 - Sunday\, November 27\n\nvisit our website saltedrimde.com for all the details\n\n\n\nAs a reminder we will be closed Thanksgiving Day\, November 24 and\n\nChristmas Eve 12/24 and Christmas Day 12/25\n\nso our staff can spend time with their families
X-ALT-DESC;FMTTYPE=text/html:<div style="text-align: center\;"><span style="font-size:24px"><em><span style="font-family:comic sans ms"><span style="color:#ff0000"><strong>Holiday Retail Sale</strong></span></span></em></span><br />\n<br />\nNovember 11 - December 23<br />\n<br />\n<span style="font-family:verdana"><em><span style="color:#ff0000"><span style="font-size:22px"><strong>25% OFF</strong></span></span></em></span><br />\n<br />\nALL<br />\nShirts&nbsp\; &bull\;&nbsp\; Hats&nbsp\; &bull\;&nbsp\; Sweats&nbsp\; &bull\;&nbsp\; Merchandise<br />\n<br />\n<span style="font-size:11px">While Supplies Last!<br />\n<br />\n<br />\n<span style="font-size:12px">Also join us on<br />\nWednesday\, November 23rd for Friendsgiving Party<br />\nFood &amp\; Drink Specials 5:00-Close<br />\nEntertainment by DJ Josh 8:30-11:00pm<br />\n<br />\n<br />\nMark your calendar for our Black Friday Gift Card Sales<br />\nFriday\, November 25 - Sunday\, November 27<br />\nvisit our website saltedrimde.com for all the details<br />\n<br />\nAs a reminder we will be closed Thanksgiving Day\, November 24 and<br />\nChristmas Eve 12/24 and Christmas Day 12/25<br />\nso our staff can spend time with their families</span></span><br />\n&nbsp\;</div>\n
LOCATION:The Salted Rim Margarita Bar & Grille 35553 Atlantic Avenue Millville\, DE 19967 302-537-7373 saltedrimde.com
UID:e.2126.24860
SEQUENCE:3
DTSTAMP:20260421T111744Z
URL:http://business.thequietresorts.com/events/details/holiday-retail-sale-at-the-salted-rim-24860
END:VEVENT

END:VCALENDAR
