BEGIN:VCALENDAR
VERSION:2.0
PRODID:-//ChamberMaster//Event Calendar 2.0//EN
METHOD:PUBLISH
X-PUBLISHED-TTL:P3D
REFRESH-INTERVAL:P3D
CALSCALE:GREGORIAN
BEGIN:VEVENT
DTSTART:20191207T180000Z
DTEND:20191207T210000Z
X-MICROSOFT-CDO-ALLDAYEVENT:FALSE
SUMMARY:Holiday Open House at Millville By The Sea
DESCRIPTION:Get in the holiday spirit with sweet treats and a horse-drawn carriage ride!\n\n\n\nJoin us for a festive celebration at our newly-decorated BETHANY home! Enjoy holiday sweets and treats\, as well as a horse-drawn carriage ride around the community! Seats are limited so secure your spot today!\n\n\n\nIncluded features on The Bethany\n\n	Main-level owner's suite\n	Open\, inviting concept\n	Spacious front porch\n	Low-maintenance flooring\n	Energy-efficient appliances\n	Over-sized 2-car garage\n	Additional options\n	\n		optional outdoor shower\n		optional loft or secondary suite (with a deck if you'd like) on the second level\n	\n	\n\nRSVP TODAY by emailing delaware@christophercompanies.com  or calling 302-539-2888
X-ALT-DESC;FMTTYPE=text/html:<span style="font-family: arial\;"><span style="font-size: 14px\;">Get in the holiday spirit with sweet treats and a horse-drawn carriage ride!<br />\n<br />\nJoin us for a festive celebration at our newly-decorated BETHANY home! Enjoy holiday sweets and treats\, as well as <strong>a horse-drawn carriage ride </strong>around the community! Seats are limited so secure your spot today!<br />\n<br />\nIncluded features on The Bethany</span></span>\n<ul>\n	<li><span style="font-family: arial\;"><span style="font-size: 14px\;">Main-level owner&#39\;s suite</span></span></li>\n	<li><span style="font-family: arial\;"><span style="font-size: 14px\;">Open\, inviting concept</span></span></li>\n	<li><span style="font-family: arial\;"><span style="font-size: 14px\;">Spacious front porch</span></span></li>\n	<li><span style="font-family: arial\;"><span style="font-size: 14px\;">Low-maintenance flooring</span></span></li>\n	<li><span style="font-family: arial\;"><span style="font-size: 14px\;">Energy-efficient appliances</span></span></li>\n	<li><span style="font-family: arial\;"><span style="font-size: 14px\;">Over-sized 2-car garage</span></span></li>\n	<li><span style="font-family: arial\;"><span style="font-size: 14px\;">Additional options</span></span>\n	<ul>\n		<li><span style="font-family: arial\;"><span style="font-size: 14px\;">optional outdoor shower</span></span></li>\n		<li><span style="font-family: arial\;"><span style="font-size: 14px\;">optional loft or secondary suite (with a deck if you&#39\;d like) on the second level</span></span></li>\n	</ul>\n	</li>\n</ul>\n<span style="font-family: arial\;"><span style="font-size: 14px\;">RSVP TODAY by emailing&nbsp\;<a href="mailto:delaware@christophercompanies.com">delaware@christophercompanies.com</a>&nbsp\; or calling 302-539-2888</span></span>
LOCATION:Millville By The Sea 26310 Wild Air Way Millville\, DE 19967
UID:e.2126.19442
SEQUENCE:3
DTSTAMP:20260426T034849Z
URL:http://business.thequietresorts.com/events/details/holiday-open-house-at-millville-by-the-sea-19442
END:VEVENT

END:VCALENDAR
