BEGIN:VCALENDAR
VERSION:2.0
PRODID:-//ChamberMaster//Event Calendar 2.0//EN
METHOD:PUBLISH
X-PUBLISHED-TTL:P3D
REFRESH-INTERVAL:P3D
CALSCALE:GREGORIAN
BEGIN:VEVENT
DTSTART;VALUE=DATE:20231202
DTEND;VALUE=DATE:20231203
TRANSP:TRANSPARENT
X-MICROSOFT-CDO-ALLDAYEVENT:TRUE
SUMMARY:Holiday Happenings at Bethany Beach
DESCRIPTION:On Saturday\, December 2nd\, the Town of Bethany Beach will kick off its annual Holiday Happenings. The day will start at the Nature Center (807 Garfield Parkway) at 10:30 AM with a special story time of Goodness Gracious Golly Gee I Forgot My Christmas Tree! Meet and greet the local mother-daughter writing team\, Carol and Cori Burcham\, and hear how their picture book got its name. There will be pony rides on the beach off Garfield Parkway from 11:30 AM to 1 PM. At 1 PM Santa will make his triumphant return to Town Hall to take photos with the children until 3 PM. There will also be face painters\, hot cocoa\, cookies\, and a station to write letters to Santa. The fun continues downtown with tractor rides on the beach\, rides on the trolley\, and a spin on Santa's Express (train) from 1 to 4 PM. A second trolley will be available to transport attendees to and from the event at the following pick-up locations: Bethany Beach Books\, Grotto Pizza (next to the Nature Center)\, and South Coastal Library until 6 PM.\n\n \n\nAt 5 PM the annual lighting of the holiday tree will take place on the Bandstand Plaza. Gather with friends and family for a special concert featuring the Southern Delaware School of the Arts Show Choir.\n\nSee who won the Coastal Christmas Showdown and stay for the party after. There will be a collection of new or gently used hats\, gloves\, scarves\, and coats along with canned goods for local charities. Items may be dropped off at the Christian Church from noon to 5 PM. Those who cannot attend the lighting can watch it on the West view beach cam via the Town website.
X-ALT-DESC;FMTTYPE=text/html:<div>On Saturday\, December 2nd\, the Town of Bethany Beach will kick off its annual Holiday Happenings. The day will start at the Nature Center (807 Garfield Parkway) at 10:30 AM with a special story time of Goodness Gracious Golly Gee I Forgot My Christmas Tree! Meet and greet the local mother-daughter writing team\, Carol and Cori Burcham\, and hear how their picture book got its name. There will be pony rides on the beach off Garfield Parkway from 11:30 AM to 1 PM. At 1 PM Santa will make his triumphant return to Town Hall to take photos with the children until 3 PM. There will also be face painters\, hot cocoa\, cookies\, and a station to write letters to Santa. The fun continues downtown with tractor rides on the beach\, rides on the trolley\, and a spin on Santa&rsquo\;s Express (train) from 1 to 4 PM. A second trolley will be available to transport attendees to and from the event at the following pick-up locations: Bethany Beach Books\, Grotto Pizza (next to the Nature Center)\, and South Coastal Library until 6 PM.<br />\n&nbsp\;</div>\n\n<div>At 5 PM the annual lighting of the holiday tree will take place on the Bandstand Plaza. Gather with friends and family for a special concert featuring the Southern Delaware School of the Arts Show Choir.<br />\nSee who won the Coastal Christmas Showdown and stay for the party after. There will be a collection of new or gently used hats\, gloves\, scarves\, and coats along with canned goods for local charities. Items may be dropped off at the Christian Church from noon to 5 PM. Those who cannot attend the lighting can watch it on the West view beach cam via the Town website.</div>\n
LOCATION:Bethany Beach\, Delaware
UID:e.2126.27166
SEQUENCE:3
DTSTAMP:20260420T164857Z
URL:http://business.thequietresorts.com/events/details/holiday-happenings-at-bethany-beach-27166
END:VEVENT

END:VCALENDAR
