BEGIN:VCALENDAR
VERSION:2.0
PRODID:-//ChamberMaster//Event Calendar 2.0//EN
METHOD:PUBLISH
X-PUBLISHED-TTL:P3D
REFRESH-INTERVAL:P3D
CALSCALE:GREGORIAN
BEGIN:VEVENT
DTSTART;VALUE=DATE:20191206
DTEND;VALUE=DATE:20191207
TRANSP:TRANSPARENT
X-MICROSOFT-CDO-ALLDAYEVENT:TRUE
SUMMARY:Holiday Family Dinner & Movie 2019
DESCRIPTION:Holiday Family Dinner & Movie Event!\n\nNovember 2 - December 30\n\nVarious Dates and Times Available - Visit our website for details and tickets.\n\n\n\nTICKET ON SALE NOW!!!!\n\n\n\nCome in your pajamas and enjoy a buffet breakfast or dinner as you watch the classic train themed Holiday movie in authentic train cars!  It is a magical experience you don't want to miss! The elves will be serving hot chocolate and cookies to the children and there will be a visit from Santa himself!  \n\n\n\nCreate memories and begin a new Holiday tradition\n\n\n\nThis events sells out quickly!\n\n \n\nMENU\n\nOur menu is designed to offer family friendly holiday favorites!  \n\n\n\nBreakfast (9:30 and 10:30) Scrambled eggs\, cheesy eggs\, Breakfast Bake (Eggs\, veggies\, cheese\, herbs & seasonings)\, pancakes\, chocolate chip pancakes\, French Toast\, breakfast potatoes\, breakfast ham & sausage\, rolls\n\n\n\nDinner (all shows from 12:00 noon through 8:30pm) Oven Roasted Turkey Breast\, Glazed Ham\, Salad (mixed baby greens with seasonal vegetables offering Ranch\, Honey Mustard and balsamic Vinaigrette Dressings) Chicken Nuggets\, Real Mashed Potatoes\, Turkey Gravy\, Mac 'n Cheese\, Corn\, Pasta\, Tomato Sauce and rolls.\n\n\n\nDon't wait until it's too late...\n\n\n\nJoin our mailing list today for news\, specials and future events!  \n\nhttp://www.saltedrimde.com/EmailJoin.aspx
X-ALT-DESC;FMTTYPE=text/html:<div style="text-align: center\;"><span style="font-size: 14px\;"><span style="font-family: arial\;"><span style="color: red\;">Holiday Family Dinner &amp\; Movie Event!</span></span></span></div>\n\n<div style="text-align: center\;"><span style="font-size: 14px\;"><span style="font-family: arial\;"><span style="color: red\;">November 2 - December 30<br />\n<strong>Various Dates and Times Available - Visit our <a href="http://www.saltedrimde.com/Polar-Express-2018">website</a> for details and tickets.</strong></span><br />\n<br />\n<span style="color: rgb(0\, 204\, 102)\;"><span style="font-size: 18px\;"><strong><span style="font-family: comic sans ms\;">TICKET ON SALE NOW!!!!</span></strong></span></span></span></span></div>\n\n<div style="text-align: center\;"><br />\n<span style="font-size: 14px\;"><span style="font-family: arial\;"><span style="color: rgb(51\, 51\, 51)\;">Come in your pajamas and enjoy a buffet breakfast or dinner as you watch the classic train themed Holiday movie in authentic train cars! &nbsp\;It is a magical experience you don&#39\;t want to miss! The elves will be serving hot chocolate and cookies to the children and there will be a visit from Santa himself! &nbsp\;</span></span></span></div>\n\n<div style="text-align: center\;"><br />\n<span style="font-size: 14px\;"><span style="font-family: arial\;"><span style="color: rgb(51\, 51\, 51)\;">Create memories and begin a new Holiday tradition</span><br />\n<br />\nThis events sells out quickly!</span></span><br />\n&nbsp\;</div>\n\n<div><span style="font-size: 14px\;"><span style="font-family: arial\;"><strong><span style="color: blue\;">MENU</span></strong><br />\nOur menu is designed to offer family friendly holiday favorites!&nbsp\;&nbsp\;<br />\n<br />\n<strong><span style="color: blue\;">Breakfas</span></strong><strong>t</strong>&nbsp\;(9:30 and 10:30) Scrambled eggs\, cheesy eggs\, Breakfast Bake (Eggs\, veggies\, cheese\, herbs &amp\; seasonings)\, pancakes\, chocolate chip pancakes\, French Toast\, breakfast potatoes\, breakfast ham &amp\; sausage\, rolls<br />\n<br />\n<strong><span style="color: blue\;">Dinner</span></strong>&nbsp\;(all shows from 12:00 noon through 8:30pm) Oven Roasted Turkey Breast\, Glazed Ham\, Salad (mixed baby greens with seasonal vegetables offering Ranch\, Honey Mustard and balsamic Vinaigrette Dressings) Chicken Nuggets\, Real Mashed Potatoes\, Turkey Gravy\, Mac &#39\;n Cheese\, Corn\, Pasta\, Tomato Sauce and rolls.<br />\n<br />\nDon&#39\;t wait until it&#39\;s too late...<br />\n<br />\nJoin our mailing list today for news\, specials and future events!&nbsp\;&nbsp\;<br />\n<a href="http://www.saltedrimde.com/EmailJoin.aspx">http://www.saltedrimde.com/EmailJoin.aspx</a></span></span></div>\n
LOCATION:The Salted Rim 27 Atlantic Ave Ocean View\, DE 19970 302-537-7373
UID:e.2126.17306
SEQUENCE:3
DTSTAMP:20260426T034851Z
URL:http://business.thequietresorts.com/events/details/holiday-family-dinner-movie-2019-12-06-2019-17306
END:VEVENT

END:VCALENDAR
