BEGIN:VCALENDAR
VERSION:2.0
PRODID:-//ChamberMaster//Event Calendar 2.0//EN
METHOD:PUBLISH
X-PUBLISHED-TTL:P3D
REFRESH-INTERVAL:P3D
CALSCALE:GREGORIAN
BEGIN:VEVENT
DTSTART;VALUE=DATE:20231101
DTEND;VALUE=DATE:20231116
TRANSP:TRANSPARENT
X-MICROSOFT-CDO-ALLDAYEVENT:TRUE
SUMMARY:Holiday Events at Bethany Beach Ocean Suites
DESCRIPTION:Plan your holiday events at Bethany Beach Ocean Suites before November 15\, 2023 to enjoy $99 room rates and complimentary gift bags.\n\n\n\nReach out to Mary today:mcallan@bboceansuites.com.
X-ALT-DESC;FMTTYPE=text/html:Plan your holiday events at Bethany Beach Ocean Suites before November 15\, 2023 to enjoy $99 room rates and complimentary gift bags.<br />\n<br />\nReach out to Mary today:mcallan@bboceansuites.com.
LOCATION:Bethany Beach Ocean Suites 99 Hollywood St. Bethany Beach\, DE 19930
UID:e.2126.27131
SEQUENCE:3
DTSTAMP:20260420T181442Z
URL:http://business.thequietresorts.com/events/details/holiday-events-at-bethany-beach-ocean-suites-27131
END:VEVENT

END:VCALENDAR
