BEGIN:VCALENDAR
VERSION:2.0
PRODID:-//ChamberMaster//Event Calendar 2.0//EN
METHOD:PUBLISH
X-PUBLISHED-TTL:P3D
REFRESH-INTERVAL:P3D
CALSCALE:GREGORIAN
BEGIN:VEVENT
DTSTART:20230517T190000Z
DTEND:20230517T210000Z
X-MICROSOFT-CDO-ALLDAYEVENT:FALSE
SUMMARY:Historic Village in Ocean View Tea Party
DESCRIPTION:You are invited to a Tea Party on the lawn of the home of our Historic Village in Ocean View (HVOV) President\, Barbara Slavin. Come dressed as you like\, but come primarily to savor teas\, tea sandwiches\, and yummy treats. Bring a friend! The 1886 house\, built by Barbara's great grandparents\, will also be available to tour.\n\n\n\nThere is limited room\, so RSVP soon to reserve your space. Park in the empty lot across the street.\n\n\n\nIf you or anyone you know is interested in becoming a member of the HVOV\, please use this link to join (https://hvov.org/membership/). One can pay online or download the membership form from the website and mail it in with payment.
X-ALT-DESC;FMTTYPE=text/html:<span style="font-size:14px">You are invited to a&nbsp\;Tea Party&nbsp\;on the lawn of&nbsp\;the home of&nbsp\;our&nbsp\;Historic Village in Ocean View (HVOV)&nbsp\;President\, Barbara Slavin. Come dressed as you like\, but&nbsp\;come primarily to savor teas\,&nbsp\;tea sandwiches\, and yummy treats.&nbsp\;Bring a friend!&nbsp\;The 1886&nbsp\;house\, built by Barbara&rsquo\;s great grandparents\,&nbsp\;will also be available to tour.<br />\n<br />\nThere is limited room\, so RSVP soon to reserve your space. Park in the empty lot across the street.<br />\n<br />\nIf you or anyone you know is&nbsp\;interested in&nbsp\;becoming a&nbsp\;member&nbsp\;of the HVOV\, please use this&nbsp\;link to join&nbsp\;(<a href="https://hvov.org/membership/" target="_blank">https://hvov.org/membership/</a>). One can&nbsp\;pay&nbsp\;online or download the membership form&nbsp\;from the website&nbsp\;and mail it in&nbsp\;with payment.</span>
LOCATION:Village President Barbara Slavin's Historic Home 41 West Avenue\, Ocean View\, Delaware 19970
UID:e.2126.25552
SEQUENCE:3
DTSTAMP:20260421T040756Z
URL:http://business.thequietresorts.com/events/details/historic-village-in-ocean-view-tea-party-25552
END:VEVENT

END:VCALENDAR
