BEGIN:VCALENDAR
VERSION:2.0
PRODID:-//ChamberMaster//Event Calendar 2.0//EN
METHOD:PUBLISH
X-PUBLISHED-TTL:P3D
REFRESH-INTERVAL:P3D
CALSCALE:GREGORIAN
BEGIN:VEVENT
DTSTART:20200114T130000Z
DTEND:20200114T143000Z
X-MICROSOFT-CDO-ALLDAYEVENT:FALSE
SUMMARY:Hire A Hen Education Session
DESCRIPTION:University of Delaware will be presenting a session on recruiting graduates and interns from the University.\n\n\n\nCome learn about UD's Career Services department and how recruiting a Blue Hen can help your business. Come see a presentation on the tools for businesses looking to hire and other ways to become involved with the University.\n\n\n\nRegister here:\n\nhttps://www.eventbrite.com/e/university-of-delaware-hire-a-hen-education-session-tickets-88435530051
X-ALT-DESC;FMTTYPE=text/html:<strong>University of Delaware will be presenting a session on recruiting graduates and interns from the University.</strong><br />\n<br />\nCome learn about UD&#39\;s Career Services department and how recruiting a Blue Hen can help your business. Come see a presentation on the tools for businesses looking to hire and other ways to become involved with the University.<br />\n<br />\nRegister here:<br />\n<a href="https://www.eventbrite.com/e/university-of-delaware-hire-a-hen-education-session-tickets-88435530051">https://www.eventbrite.com/e/university-of-delaware-hire-a-hen-education-session-tickets-88435530051</a><br />\n&nbsp\;
LOCATION:Mercantile Processing Inc 32695 Roxana Road #Suite 300 Frankford\, DE 19945
UID:e.2126.19549
SEQUENCE:3
DTSTAMP:20260426T022947Z
URL:http://business.thequietresorts.com/events/details/hire-a-hen-education-session-19549
END:VEVENT

END:VCALENDAR
