BEGIN:VCALENDAR
VERSION:2.0
PRODID:-//ChamberMaster//Event Calendar 2.0//EN
METHOD:PUBLISH
X-PUBLISHED-TTL:P3D
REFRESH-INTERVAL:P3D
CALSCALE:GREGORIAN
BEGIN:VEVENT
DTSTART:20231118T170000Z
DTEND:20231118T210000Z
X-MICROSOFT-CDO-ALLDAYEVENT:FALSE
SUMMARY:High West Brand Bottle Engraving at Banks Wines & Spirits
DESCRIPTION:High West Brand Bottle Engraving Event: Purchase any bottle from High West Distillery in store or Online and have it engraved. The perfect Holiday gift for any lover of Whiskey.\n\nBottles in store include:\n\nCabernet Cask\n\nCask Strength\n\nDouble Rye\n\nRendezvous Rye\n\nAmerican Prairie\n\nBWS 20th Anniversary Single Barrel Select \n\nManhattan Cocktail\n\nOld Fashioned Cocktail
X-ALT-DESC;FMTTYPE=text/html:High West Brand Bottle Engraving Event: Purchase any bottle from High West Distillery in store or Online and have it engraved. The perfect Holiday gift for any lover of Whiskey.<br />\nBottles in store include:<br />\nCabernet Cask<br />\nCask Strength<br />\nDouble Rye<br />\nRendezvous Rye<br />\nAmerican Prairie<br />\nBWS 20th Anniversary Single Barrel Select&nbsp\;<br />\nManhattan Cocktail<br />\nOld Fashioned Cocktail
LOCATION:Banks Wine & Spirits 38014 Town Center Dr\, Millville\, DE 19967
UID:e.2126.27132
SEQUENCE:3
DTSTAMP:20260420T165859Z
URL:http://business.thequietresorts.com/events/details/high-west-brand-bottle-engraving-at-banks-wines-spirits-27132
END:VEVENT

END:VCALENDAR
