BEGIN:VCALENDAR
VERSION:2.0
PRODID:-//ChamberMaster//Event Calendar 2.0//EN
METHOD:PUBLISH
X-PUBLISHED-TTL:P3D
REFRESH-INTERVAL:P3D
CALSCALE:GREGORIAN
BEGIN:VEVENT
DTSTART:20221016T220000Z
DTEND:20221016T233000Z
X-MICROSOFT-CDO-ALLDAYEVENT:FALSE
SUMMARY:High Noon
DESCRIPTION:This is the East Coast's Premier Southern Rock tribute band featuring hits from Lynyrd Skynyrd\, Allman Brothers\, Marshall Tucker\, Molly Hatchet\, the Outlaws\, and much more.
X-ALT-DESC;FMTTYPE=text/html:This is the East Coast&#39\;s Premier Southern Rock tribute band featuring hits from Lynyrd Skynyrd\, Allman Brothers\, Marshall Tucker\, Molly Hatchet\, the Outlaws\, and much more.
LOCATION:Bethany Beach Bandstand
UID:e.2126.24043
SEQUENCE:3
DTSTAMP:20260421T160442Z
URL:http://business.thequietresorts.com/events/details/high-noon-10-16-2022-24043
END:VEVENT

END:VCALENDAR
