BEGIN:VCALENDAR
VERSION:2.0
PRODID:-//ChamberMaster//Event Calendar 2.0//EN
METHOD:PUBLISH
X-PUBLISHED-TTL:P3D
REFRESH-INTERVAL:P3D
CALSCALE:GREGORIAN
BEGIN:VEVENT
DTSTART;VALUE=DATE:20210819
DTEND;VALUE=DATE:20210820
TRANSP:TRANSPARENT
X-MICROSOFT-CDO-ALLDAYEVENT:TRUE
SUMMARY:High Noon
DESCRIPTION:This is the East Coast's Premier Southern rock tribute exclusively performing the '70s classic hits of Lynyrd Skynyrd\, The Allman Brothers Band\, Molly Hatchet\, The Outlaws\, 38 Special and The Marshall Tucker Band. With a deep dedication to the legacy of this timeless music\, High Noon takes you back to a golden age of live music and the raw power of your favorite anthems from the founding fathers of Southern rock. www.highnoonrocks.com
X-ALT-DESC;FMTTYPE=text/html:<span style="background-color:rgba(255\, 255\, 255\, 0.95)\; color:rgb(68\, 68\, 68)\; font-family:arial\; font-size:14.4px">This is the East Coast&#39\;s Premier Southern rock tribute exclusively performing the &lsquo\;70s classic hits of Lynyrd Skynyrd\, The Allman Brothers Band\, Molly Hatchet\, The Outlaws\, 38 Special and The Marshall Tucker Band. With a deep dedication to the legacy of this timeless music\, High Noon takes you back to a golden age of live music and the raw power of your favorite anthems from the founding fathers of Southern rock. www.highnoonrocks.com</span>
LOCATION:Bethany Beach Bandstand Garfield Parkway & Boardwalk\, Bethany Beach
UID:e.2126.22576
SEQUENCE:3
DTSTAMP:20260424T154058Z
URL:http://business.thequietresorts.com/events/details/high-noon-08-19-2021-22576
END:VEVENT

END:VCALENDAR
