BEGIN:VCALENDAR
VERSION:2.0
PRODID:-//ChamberMaster//Event Calendar 2.0//EN
METHOD:PUBLISH
X-PUBLISHED-TTL:P3D
REFRESH-INTERVAL:P3D
CALSCALE:GREGORIAN
BEGIN:VEVENT
DTSTART:20230720T233000Z
DTEND:20230721T010000Z
X-MICROSOFT-CDO-ALLDAYEVENT:FALSE
SUMMARY:High Noon
DESCRIPTION:High Noon is the East Coast's Premier Southern Rock tribute band featuring hits from Lynyrd Skynyrd\, Allman Brothers\, Marshall Tucker\, Molly Hatchet\, the Outlaws\, and much more.  Journey back to a golden age of live music\, and experience once again the raw power of all your favorite anthems from the founding fathers of Southern rock.
X-ALT-DESC;FMTTYPE=text/html:High Noon is the East Coast&#39\;s Premier Southern Rock tribute band featuring hits from Lynyrd Skynyrd\, Allman Brothers\, Marshall Tucker\, Molly Hatchet\, the Outlaws\, and much more. &nbsp\;Journey back to a golden age of live music\, and experience once again the raw power of all your favorite anthems from the founding fathers of Southern rock.
LOCATION:Bethany Beach Bandstand
UID:e.2126.26002
SEQUENCE:3
DTSTAMP:20260420T230329Z
URL:http://business.thequietresorts.com/events/details/high-noon-07-20-2023-26002
END:VEVENT

END:VCALENDAR
