BEGIN:VCALENDAR
VERSION:2.0
PRODID:-//ChamberMaster//Event Calendar 2.0//EN
METHOD:PUBLISH
X-PUBLISHED-TTL:P3D
REFRESH-INTERVAL:P3D
CALSCALE:GREGORIAN
BEGIN:VEVENT
DTSTART:20240527T140000Z
DTEND:20240527T180000Z
X-MICROSOFT-CDO-ALLDAYEVENT:FALSE
SUMMARY:Hero Day at Coastal Wilds
DESCRIPTION:Monday\, May 27th From 10am-2pm\n\nCelebrate our local heroes\, explore "Heroic Vehicles" and hang with our furry friends!\n\n\nTicket Includes\n\n\n	FREE Tickets for first responders\, military\, and veterans (with valid government ID/Badge)\n	Access to the park (self-guided tour) and Kangaroo Walkabout\n	Explore "Heroic Vehicles" from our local Heroes and First Responders!\n	Meet & Greet with Paw Patrol's Chase & Marshall (Enchanted Magical Moments)\n	Special Mini Animal Ambassador Encounters throughout the day\n\n\nExtra Heroic Fun\n\n\n	Kona Ice Shaved lce Truck\n	Smashmouth Burgers Food Truck\n	Sand Art\n	Airbrush Tattoos\n\n\n And more!
X-ALT-DESC;FMTTYPE=text/html:<p><strong>Monday\, May 27th From 10am-2pm</strong><br />\nCelebrate our local heroes\, explore &ldquo\;Heroic Vehicles&rdquo\; and hang with our furry friends!</p>\n\n<div>\n<p><u><strong>Ticket Includes</strong></u></p>\n\n<ul>\n	<li>FREE Tickets for first responders\, military\, and veterans (with valid government ID/Badge)</li>\n	<li>Access to the park (self-guided tour) and Kangaroo Walkabout</li>\n	<li>Explore &quot\;Heroic Vehicles&quot\; from our local Heroes and First Responders!</li>\n	<li>Meet &amp\; Greet with Paw Patrol&#39\;s Chase &amp\; Marshall (Enchanted Magical Moments)</li>\n	<li>Special Mini Animal Ambassador Encounters throughout the day</li>\n</ul>\n\n<p><u><strong>Extra Heroic Fun</strong></u></p>\n\n<ul>\n	<li>Kona Ice Shaved lce Truck</li>\n	<li>Smashmouth Burgers Food Truck</li>\n	<li>Sand Art</li>\n	<li>Airbrush Tattoos</li>\n</ul>\n\n<p>&hellip\;And more!</p>\n</div>\n
LOCATION:Coastal Wilds 34215 Peppers Corner Rd. Frankford\, DE 19945
UID:e.2126.28776
SEQUENCE:3
DTSTAMP:20260420T042054Z
URL:http://business.thequietresorts.com/events/details/hero-day-at-coastal-wilds-28776
END:VEVENT

END:VCALENDAR
