BEGIN:VCALENDAR
VERSION:2.0
PRODID:-//ChamberMaster//Event Calendar 2.0//EN
METHOD:PUBLISH
X-PUBLISHED-TTL:P3D
REFRESH-INTERVAL:P3D
CALSCALE:GREGORIAN
BEGIN:VEVENT
DTSTART:20230722T140000Z
DTEND:20230722T160000Z
X-MICROSOFT-CDO-ALLDAYEVENT:FALSE
SUMMARY:Herbal Vinegars: From Seed to Culinary Delight with Emily Peterson and Susan Trone
DESCRIPTION:Emily Peterson and Susan Trone are Master Gardeners from Sussex County who enjoy the pleasures of growing herbs and cooking with them. Homemade vinegars are fun to make and use as well as great gifts!  Emily and Susan will demonstrate how to make vinegars using different base vinegars and various herbs.  Enjoy some pre-made vinegars for tasting as well as a few tried and true recipes for you to try at home.  Following the demonstration\, you'll be able to make your own vinegars to take home.\n\n\n\nClick here to get tickets!
X-ALT-DESC;FMTTYPE=text/html:<big>Emily Peterson and Susan Trone are Master Gardeners from Sussex County who enjoy the pleasures of growing herbs and cooking with them. Homemade vinegars are fun to make and use as well as great gifts!&nbsp\;&nbsp\;Emily and Susan will demonstrate how to make vinegars using different base vinegars and various herbs.&nbsp\;&nbsp\;Enjoy some pre-made vinegars for tasting as well as a few tried and true recipes for you to try at home.&nbsp\;&nbsp\;Following the demonstration\, you&rsquo\;ll be able to make your own vinegars to take home.</big><br />\n<br />\n<big><a href="https://www.eventbrite.com/e/herbal-vinegars-from-seed-to-culinary-delight-tickets-623794886297" style="box-sizing: border-box\; background-color: transparent\; border-bottom: 1px solid currentcolor\; text-decoration-line: none\; color: rgb(28\, 30\, 31) !important\;"><strong>Click here to get tickets!</strong></a></big>
LOCATION:Inland Bays Garden Center 38320 Muddy Neck Rd\, Frankford\, DE\, 19945
UID:e.2126.26147
SEQUENCE:3
DTSTAMP:20260420T230552Z
URL:http://business.thequietresorts.com/events/details/herbal-vinegars-from-seed-to-culinary-delight-with-emily-peterson-and-susan-trone-26147
END:VEVENT

END:VCALENDAR
