BEGIN:VCALENDAR
VERSION:2.0
PRODID:-//ChamberMaster//Event Calendar 2.0//EN
METHOD:PUBLISH
X-PUBLISHED-TTL:P3D
REFRESH-INTERVAL:P3D
CALSCALE:GREGORIAN
BEGIN:VEVENT
DTSTART:20230726T150000Z
DTEND:20230726T180000Z
X-MICROSOFT-CDO-ALLDAYEVENT:FALSE
SUMMARY:Heavenly Luncheon at Ocean View Presbyterian Church
DESCRIPTION:Whether you are enjoying the Beach & Bay Cottage Tour or just looking for a wonderful lunch\, join us at Ocean View Presbyterian for our annual Heavenly Luncheon featuring California Chicken Salad\, Pasta and Ceasar Salads\, fresh fruits and rolls - Your $20.00 donation goes towards local\, national and international mission projects.
X-ALT-DESC;FMTTYPE=text/html:Whether you are enjoying the Beach &amp\; Bay Cottage Tour or just looking for a wonderful lunch\, join us at Ocean View Presbyterian for our annual Heavenly Luncheon featuring California Chicken Salad\, Pasta and Ceasar Salads\, fresh fruits and rolls - Your $20.00 donation goes towards local\, national and international mission projects.
LOCATION:Ocean View Presbyterian Church 67 Central Avenue Ocean View\, DE 19970
UID:e.2126.26401
SEQUENCE:3
DTSTAMP:20260420T230735Z
URL:http://business.thequietresorts.com/events/details/heavenly-luncheon-at-ocean-view-presbyterian-church-26401
END:VEVENT

END:VCALENDAR
