BEGIN:VCALENDAR
VERSION:2.0
PRODID:-//ChamberMaster//Event Calendar 2.0//EN
METHOD:PUBLISH
X-PUBLISHED-TTL:P3D
REFRESH-INTERVAL:P3D
CALSCALE:GREGORIAN
BEGIN:VEVENT
DTSTART:20230725T130000Z
DTEND:20230725T183000Z
X-MICROSOFT-CDO-ALLDAYEVENT:FALSE
SUMMARY:Heather's Home Works and Santa's Letters Partner for Christmas in July
DESCRIPTION:Heather's Home Works is a proud partner of Santa's Letters\, a local non-profit helping those in need\, during the holidays and year-round!\n\n\n\nOn July 25th\, Santa's Letters and Heather's Home Works are hosting Christmas in July at Parsons Farms and Produce in Dagsboro from 9:00 am - 2:30 pm.  Their mission is to collect back-to-school supplies and backpacks for families in the local district.  \n\n\n\nThey will be collecting school supplies and donations\, have games and activities for kids\, and the famous Santa's Letters mailbox will be present to write letters to Santa.  \n\n\n\nIf you can't make it but would like to make a charitable donation please visit https://www.santaslettersinc.com/about-3 and click DONATE NOW.  Their local office can be used as a drop-off site for supplies until 8/25/23.
X-ALT-DESC;FMTTYPE=text/html:Heather&#39\;s Home Works is a proud partner of Santa&#39\;s Letters\, a local non-profit helping those in need\, during the holidays and year-round!<br />\n<br />\nOn July 25th\, Santa&#39\;s Letters and Heather&#39\;s Home Works are hosting Christmas in July at Parsons Farms and Produce in Dagsboro from 9:00 am - 2:30 pm.&nbsp\; Their mission is to collect back-to-school supplies and backpacks for families in the local district.&nbsp\;&nbsp\;<br />\n<br />\nThey will be collecting school supplies and donations\, have games and activities for kids\, and the famous Santa&#39\;s Letters mailbox will be present to write letters to Santa.&nbsp\;&nbsp\;<br />\n<br />\nIf you can&#39\;t make it but would like to make a charitable donation please visit&nbsp\;<a href="https://www.santaslettersinc.com/about-3">https://www.santaslettersinc.com/about-3</a>&nbsp\;and click DONATE NOW.&nbsp\; Their local office can be used as a drop-off site for supplies until 8/25/23.
LOCATION:Parsons Farms 30381 Armory Rd.\, Dagsboro\, DE 19939
UID:e.2126.26400
SEQUENCE:3
DTSTAMP:20260420T230734Z
URL:http://business.thequietresorts.com/events/details/heather-s-home-works-and-santa-s-letters-partner-for-christmas-in-july-26400
END:VEVENT

END:VCALENDAR
