BEGIN:VCALENDAR
VERSION:2.0
PRODID:-//ChamberMaster//Event Calendar 2.0//EN
METHOD:PUBLISH
X-PUBLISHED-TTL:P3D
REFRESH-INTERVAL:P3D
CALSCALE:GREGORIAN
BEGIN:VEVENT
DTSTART:20240202T230000Z
DTEND:20240203T010000Z
X-MICROSOFT-CDO-ALLDAYEVENT:FALSE
SUMMARY:Heart Eye Paint Night at Sorella Amore
DESCRIPTION:Heart Eye Paint Night\n\nJoin us Friday\, February 2nd at 6 PM for a fun heart eye paint night. Ticket includes paint and all supplies plus some snacks.
X-ALT-DESC;FMTTYPE=text/html:<div>\n<h2 style="font-style:var(--font-heading-style)">Heart Eye Paint Night</h2>\n\n<p>Join us Friday\, February 2nd at&nbsp\;6 PM for a fun heart eye paint night. Ticket includes paint and all supplies&nbsp\;plus some snacks.&nbsp\;</p>\n</div>\n
LOCATION:Sorella Amore 32630 Cedar Drive Millville DE 19967
UID:e.2126.28216
SEQUENCE:3
DTSTAMP:20260420T094707Z
URL:http://business.thequietresorts.com/events/details/heart-eye-paint-night-at-sorella-amore-28216
END:VEVENT

END:VCALENDAR
