BEGIN:VCALENDAR
VERSION:2.0
PRODID:-//ChamberMaster//Event Calendar 2.0//EN
METHOD:PUBLISH
X-PUBLISHED-TTL:P3D
REFRESH-INTERVAL:P3D
CALSCALE:GREGORIAN
BEGIN:VEVENT
DTSTART:20240514T160000Z
DTEND:20240514T170000Z
X-MICROSOFT-CDO-ALLDAYEVENT:FALSE
SUMMARY:Health Care Resources Event by PAM Health
DESCRIPTION:This is a great opportunity to meet local health care experts and learn about your health care options. We will have a presentation from each representative and then take questions from the audience. No question is off limits so ask anything healthcare related. We will also be distributing a guide with names and phone number for local health care resources. This event is open to the community including caregivers\, neighbors\, family and friends you do NOT need to be a CHEER member to join this event.
X-ALT-DESC;FMTTYPE=text/html:This is a great opportunity to meet local health care experts and learn about your health care options. We will have a presentation from each representative and then take questions from the audience. No question is off limits so ask anything healthcare related. We will also be distributing a guide with names and phone number for local health care resources. This event is open to the community including caregivers\, neighbors\, family and friends you do <strong><u>NOT</u></strong> need to be a CHEER member to join this event.&nbsp\;
LOCATION:Cheer Center Ocean View 30637 Cedar Neck Road Ocean View DE 19970
UID:e.2126.29280
SEQUENCE:3
DTSTAMP:20260420T042430Z
URL:http://business.thequietresorts.com/events/details/health-care-resources-event-by-pam-health-29280
END:VEVENT

END:VCALENDAR
