BEGIN:VCALENDAR
VERSION:2.0
PRODID:-//ChamberMaster//Event Calendar 2.0//EN
METHOD:PUBLISH
X-PUBLISHED-TTL:P3D
REFRESH-INTERVAL:P3D
CALSCALE:GREGORIAN
BEGIN:VEVENT
DTSTART;VALUE=DATE:20211028
DTEND;VALUE=DATE:20211031
TRANSP:TRANSPARENT
X-MICROSOFT-CDO-ALLDAYEVENT:TRUE
SUMMARY:Haunted Escape Room
DESCRIPTION:Join us at South Coastal Library for a spooky and haunted escape room. Your group has 1 hour to cooperatively solve puzzles\, discover clues\, and unlock the doors to escape the haunted mansion! Book your pod (limit of 8 to a group) for a designated time slot. Face coverings are required and hand sanitizer will be provided. This event is for ages 10 & up. Registration is required and opens on October 1 at 10:00 am. You must call 302-858-5518 to register.
X-ALT-DESC;FMTTYPE=text/html:<span style="font-family:arial\;"><span style="font-size:14px\;">Join us at South Coastal Library for a spooky and haunted escape room. Your group has 1 hour to cooperatively solve puzzles\, discover clues\, and unlock the doors to escape the haunted mansion! Book your pod (limit of 8 to a group) for a designated time slot. Face coverings are required and hand sanitizer will be provided. This event is for ages 10 &amp\; up.&nbsp\;<strong>Registration is required and opens on October 1 at 10:00 am. You must call 302-858-5518 to register</strong>.</span></span>
LOCATION:South Coastal Library 43 Kent Ave Bethany Beach\, DE 19930
UID:e.2126.22920
SEQUENCE:3
DTSTAMP:20260424T133139Z
URL:http://business.thequietresorts.com/events/details/haunted-escape-room-22920
END:VEVENT

END:VCALENDAR
