BEGIN:VCALENDAR
VERSION:2.0
PRODID:-//ChamberMaster//Event Calendar 2.0//EN
METHOD:PUBLISH
X-PUBLISHED-TTL:P3D
REFRESH-INTERVAL:P3D
CALSCALE:GREGORIAN
BEGIN:VEVENT
DTSTART:20221124T160000Z
DTEND:20221125T000000Z
X-MICROSOFT-CDO-ALLDAYEVENT:FALSE
SUMMARY:Harvest Tide Steakhouse Thanksgiving Buffet
DESCRIPTION:Thanksgiving Day Buffet! $50 Adult\, $19 kids under 12\, Free kids under 5\n\nReservations Available on RESY!\n\nLast Seating is at 6pm\n\n\n\nAvailable at both Lewes and Bethany Beach Location \n\n\n\nPlease make sure your reservation is for the correct location of your choice
X-ALT-DESC;FMTTYPE=text/html:<span style="background-color:rgb(250\, 250\, 250)">Thanksgiving Day Buffet! $50 Adult\, $19 kids under 12\, Free kids under 5<br />\nReservations Available on RESY!<br />\nLast Seating is at 6pm<br />\n<br />\nAvailable at both Lewes and Bethany Beach Location&nbsp\;<br />\n<br />\nPlease make sure your reservation is for the correct location of your choice&nbsp\;</span>
LOCATION:Bethany Beach Location 98 Garfield Parkway 2nd Floor\, Bethany Beach\, Delaware 19930\, United States Lewes Location 410 E Savannah Rd\, Lewes\, DE 19958
UID:e.2126.24493
SEQUENCE:3
DTSTAMP:20260421T142205Z
URL:http://business.thequietresorts.com/events/details/harvest-tide-steakhouse-thanksgiving-buffet-24493
END:VEVENT

END:VCALENDAR
