BEGIN:VCALENDAR
VERSION:2.0
PRODID:-//ChamberMaster//Event Calendar 2.0//EN
METHOD:PUBLISH
X-PUBLISHED-TTL:P3D
REFRESH-INTERVAL:P3D
CALSCALE:GREGORIAN
BEGIN:VEVENT
DTSTART:20221110T140000Z
DTEND:20221110T210000Z
X-MICROSOFT-CDO-ALLDAYEVENT:FALSE
SUMMARY:Happy Holly Days at Delaware Botanic Gardens
DESCRIPTION:Celebrate the American Holly Tree\, the state  tree of Delaware. A special Holly Tree Tour at 11 a.m.\, including the Anderson Holly Collection (fee of $10). At 12:30 p.m. a Wreath Making Class (fee of $20\, includes all materials). Admission to gardens is Free for members\, non-members $15 admission fee. Chiildren under 16\, Free admission\, when accompanied by an adult.
X-ALT-DESC;FMTTYPE=text/html:Celebrate the American Holly Tree\, the state &nbsp\;tree of Delaware. A special Holly Tree Tour at 11 a.m.\, including the Anderson Holly Collection (fee of $10). At 12:30 p.m. a Wreath Making Class (fee of $20\, includes all materials). Admission to gardens is Free for members\, non-members $15 admission fee. Chiildren under 16\, Free admission\, when accompanied by an adult.&nbsp\;
LOCATION:Delaware Botanic Gardens\, 30220 Piney Neck Rod\, Dagsboro\, DE 19939
UID:e.2126.24197
SEQUENCE:3
DTSTAMP:20260421T142205Z
URL:http://business.thequietresorts.com/events/details/happy-holly-days-at-delaware-botanic-gardens-24197
END:VEVENT

END:VCALENDAR
