BEGIN:VCALENDAR
VERSION:2.0
PRODID:-//ChamberMaster//Event Calendar 2.0//EN
METHOD:PUBLISH
X-PUBLISHED-TTL:P3D
REFRESH-INTERVAL:P3D
CALSCALE:GREGORIAN
BEGIN:VEVENT
DTSTART:20220827T150000Z
DTEND:20220827T170000Z
X-MICROSOFT-CDO-ALLDAYEVENT:FALSE
SUMMARY:Happy 116th Birthday Coldwell Banker!
DESCRIPTION:Happy 116th Birthday Coldwell Banker!  \n\n\n\nCome out and help us celebrate. Enjoy complimentary Rita's Italian Ice while you meet and greet with our agents.  \n\n\n\nOne lucky winner will win a Coldwell Banker backpack!
X-ALT-DESC;FMTTYPE=text/html:Happy 116th Birthday Coldwell Banker!&nbsp\;&nbsp\;<br />\n<br />\nCome out and help us celebrate. Enjoy complimentary Rita&#39\;s Italian Ice while you meet and greet with our agents.&nbsp\;&nbsp\;<br />\n<br />\nOne lucky winner will win a Coldwell Banker backpack!<br />\n&nbsp\;
LOCATION:Coldwell Banker Realty 89 Atlantic Ave. Ocean View\, DE 19970
UID:e.2126.24054
SEQUENCE:3
DTSTAMP:20260421T204937Z
URL:http://business.thequietresorts.com/events/details/happy-116th-birthday-coldwell-banker-24054
END:VEVENT

END:VCALENDAR
