BEGIN:VCALENDAR
VERSION:2.0
PRODID:-//ChamberMaster//Event Calendar 2.0//EN
METHOD:PUBLISH
X-PUBLISHED-TTL:P3D
REFRESH-INTERVAL:P3D
CALSCALE:GREGORIAN
BEGIN:VEVENT
DTSTART:20231029T000000Z
DTEND:20231029T040000Z
X-MICROSOFT-CDO-ALLDAYEVENT:FALSE
SUMMARY:Halloween Party & Costume Contest at the Salted Rim
DESCRIPTION:Spooktacular Halloween Party & Costume Contest\n\n\n\nSaturday ~ October 28th\n\nover $1\,200\n\nin cash and prizes \n\n\n \n\n\n	\n		\n			 \n			CASH\n			Gift Card\n		\n		\n			1st Place\n			$500\n			$100\n		\n		\n			2nd Place\n			$250\n			$75\n		\n		\n			3rd Place\n			$150\n			$ 50\n		\n		\n			4th Place\n			$100\n			$ 25\n		\n	\n\n\n \n\n\n\n\nDJ Rupe     8:00pm-12am\n\n\n\n\n\nTons of food and drink specials!
X-ALT-DESC;FMTTYPE=text/html:<h1 style="text-align:center"><span style="font-size:22px"><span style="color:#FF0000"><span style="font-family:arial"><strong>Spooktacular Halloween Party &amp\; Costume Contest</strong></span></span></span></h1>\n\n<div style="text-align:center"><br />\n<span style="font-family:arial"><span style="font-size:14px"><em><span style="color:#000000"><span style="font-size:16px"><strong><span style="font-family:verdana">Saturday ~ October 28th</span></strong></span></span></em></span></span><br />\n<span style="background-color:rgb(255\, 255\, 255)\; color:rgb(0\, 128\, 0)\; font-family:sans-serif\,arial\,verdana\,trebuchet ms\; font-size:13px"><span style="font-size:28px"><span style="font-family:comic sans ms"><strong>over $1\,200</strong></span></span></span><br />\n<span style="background-color:rgb(255\, 255\, 255)\; color:rgb(0\, 100\, 0)\; font-family:sans-serif\,arial\,verdana\,trebuchet ms\; font-size:13px"><span style="font-size:24px"><span style="font-family:comic sans ms"><strong><span style="font-size:18px">in cash and prizes&nbsp\;</span></strong></span></span></span></div>\n\n<div>\n<div style="text-align:center">&nbsp\;</div>\n\n<table align="center" border="0" cellpadding="1" cellspacing="1" style="width:200px">\n	<tbody>\n		<tr>\n			<td>&nbsp\;</td>\n			<td style="text-align:center">CASH</td>\n			<td style="text-align:center">Gift Card</td>\n		</tr>\n		<tr>\n			<td>1st Place</td>\n			<td style="text-align:center">$500</td>\n			<td style="text-align:center">$100</td>\n		</tr>\n		<tr>\n			<td>2nd Place</td>\n			<td style="text-align:center">$250</td>\n			<td style="text-align:center">$75</td>\n		</tr>\n		<tr>\n			<td>3rd Place</td>\n			<td style="text-align:center">$150</td>\n			<td style="text-align:center">$ 50</td>\n		</tr>\n		<tr>\n			<td>4th Place</td>\n			<td style="text-align:center">$100</td>\n			<td style="text-align:center">$ 25</td>\n		</tr>\n	</tbody>\n</table>\n\n<div style="text-align:center">&nbsp\;</div>\n</div>\n\n<div style="text-align:center"><br />\n<span style="font-size:18px"><strong>DJ Rupe&nbsp\; &bull\;&nbsp\; 8:00pm-12am</strong></span><br />\n<br />\n<br />\n<span style="font-family:arial"><span style="font-size:14px"><span style="color:rgb(255\, 0\, 0)"><strong>Tons of food and drink specials!</strong></span></span></span><br />\n&nbsp\;</div>\n
LOCATION:The Salted Rim Margarita Bar & Grille 35553 Atlantic Avenue Millville\, DE 19967 302-537-7373
UID:e.2126.27073
SEQUENCE:3
DTSTAMP:20260420T183502Z
URL:http://business.thequietresorts.com/events/details/halloween-party-costume-contest-at-the-salted-rim-27073
END:VEVENT

END:VCALENDAR
