BEGIN:VCALENDAR
VERSION:2.0
PRODID:-//ChamberMaster//Event Calendar 2.0//EN
METHOD:PUBLISH
X-PUBLISHED-TTL:P3D
REFRESH-INTERVAL:P3D
CALSCALE:GREGORIAN
BEGIN:VEVENT
DTSTART:20211031T000000Z
DTEND:20211031T040000Z
X-MICROSOFT-CDO-ALLDAYEVENT:FALSE
SUMMARY:Halloween Party & Costume Contest
DESCRIPTION:Spooktacular Halloween Party & Costume Contest\n\n\n\nSaturday ~ October 30th ~ 8:00pm-12am\n\n\n\n$1\,500  in CASH & PRIZES\n\n\n\nDJ Rupe     8pm-12am\n\n\n\nTons of food and drink specials!
X-ALT-DESC;FMTTYPE=text/html:<h1 style="text-align:center"><span style="font-size:22px"><span style="color:#FF0000"><span style="font-family:arial"><strong>Spooktacular Halloween Party &amp\; Costume Contest</strong></span></span></span></h1>\n\n<div style="text-align:center"><br />\n<span style="font-family:arial"><span style="font-size:14px"><span style="color:rgb(255\, 0\, 0)"><span style="font-size:16px"><strong>Saturday ~ October 30th ~ 8:00pm-12am</strong></span></span><br />\n<br />\n<span style="font-size:26px"><em><span style="font-family:comic sans ms"><strong><span style="font-family:verdana">$1\,500</span>&nbsp\; <span style="font-size:18px">i</span></strong><span style="font-size:18px"><strong>n CASH &amp\; PRIZES</strong></span></span></em></span><br />\n<br />\n<span style="color:rgb(255\, 0\, 0)"><strong><span style="font-size:18px">DJ Rupe&nbsp\; &bull\;&nbsp\; 8pm-12am</span><br />\n<br />\nTons of food and drink specials!</strong></span></span></span><br />\n<br />\n&nbsp\;</div>\n
LOCATION:The Salted Rim Margarita Bar & Grille 35553 Atlantic Avenue Millville\, DE 19967 302-537-7373
UID:e.2126.23018
SEQUENCE:3
DTSTAMP:20260424T121013Z
URL:http://business.thequietresorts.com/events/details/halloween-party-costume-contest-10-30-2021-23018
END:VEVENT

END:VCALENDAR
