BEGIN:VCALENDAR
VERSION:2.0
PRODID:-//ChamberMaster//Event Calendar 2.0//EN
METHOD:PUBLISH
X-PUBLISHED-TTL:P3D
REFRESH-INTERVAL:P3D
CALSCALE:GREGORIAN
BEGIN:VEVENT
DTSTART;VALUE=DATE:20210401
DTEND;VALUE=DATE:20210402
TRANSP:TRANSPARENT
X-MICROSOFT-CDO-ALLDAYEVENT:TRUE
SUMMARY:Haiku Garden
DESCRIPTION:Celebrate National Poetry Month and explore the outdoor display that runs all month long (April 1 through May 2). This exhibit will feature large stones displaying a variety of haiku set around the trees along the lawn. Stop by\, enjoy the fresh air and learn about the art of Haiku!
X-ALT-DESC;FMTTYPE=text/html:<p><span style="font-size:14px\;"><span style="font-family:arial\;">Celebrate National Poetry Month and explore the outdoor display that runs all month long (April 1 through May 2).&nbsp\;This exhibit will feature large stones displaying a variety of haiku set around the trees along the lawn.&nbsp\;Stop by\, enjoy the fresh air and learn about the art of Haiku!&nbsp\;</span></span></p>\n
LOCATION:31255 Americana Parkway Selbyville\, DE\, 19975
UID:e.2126.21959
SEQUENCE:3
DTSTAMP:20260424T222440Z
URL:http://business.thequietresorts.com/events/details/haiku-garden-21959
END:VEVENT

END:VCALENDAR
