BEGIN:VCALENDAR
VERSION:2.0
PRODID:-//ChamberMaster//Event Calendar 2.0//EN
METHOD:PUBLISH
X-PUBLISHED-TTL:P3D
REFRESH-INTERVAL:P3D
CALSCALE:GREGORIAN
BEGIN:VEVENT
DTSTART:20221022T220000Z
DTEND:20221022T233000Z
X-MICROSOFT-CDO-ALLDAYEVENT:FALSE
SUMMARY:Guys in Thin Ties
DESCRIPTION:Playing music from an era when hair was big\, collars were popped up\, and pop culture was\, like\, totally gnarly\, Guys In Thin Ties is the band for those who crave the good old days of awesome '80s music.
X-ALT-DESC;FMTTYPE=text/html:Playing music from an era when hair was big\, collars were popped up\, and pop culture was\, like\, totally gnarly\, Guys In Thin Ties is the band for those who crave the good old days of awesome &lsquo\;80s music.&nbsp\;
LOCATION:Bethany Beach Bandstand
UID:e.2126.24044
SEQUENCE:3
DTSTAMP:20260421T160430Z
URL:http://business.thequietresorts.com/events/details/guys-in-thin-ties-24044
END:VEVENT

END:VCALENDAR
