BEGIN:VCALENDAR
VERSION:2.0
PRODID:-//ChamberMaster//Event Calendar 2.0//EN
METHOD:PUBLISH
X-PUBLISHED-TTL:P3D
REFRESH-INTERVAL:P3D
CALSCALE:GREGORIAN
BEGIN:VEVENT
DTSTART:20200815T140000Z
DTEND:20200815T150000Z
X-MICROSOFT-CDO-ALLDAYEVENT:FALSE
SUMMARY:Groovy Nate
DESCRIPTION:Groovy Nate is a children's entertainer and Wolf Trap teaching artist who creates fun and educational shows using exotic musical instruments\, comedy\, and puppet skits   a la Sesame Street meets Parliament/Funkadelic\, meshed with The Electric Company\, Kraftwerk\, and Dub Reggae.
X-ALT-DESC;FMTTYPE=text/html:<span style="font-size: 14px\;"><span style="font-family: arial\;">Groovy Nate is a children&rsquo\;s entertainer and Wolf Trap teaching artist who creates fun and educational shows using exotic musical instruments\, comedy\, and puppet skits &mdash\; a la Sesame Street meets Parliament/Funkadelic\, meshed with The Electric Company\, Kraftwerk\, and Dub Reggae.</span></span>
LOCATION:The Freeman Stage 31750 Lake View Drive Selbyville\, DE 19975
UID:e.2126.21716
SEQUENCE:3
DTSTAMP:20260425T162941Z
URL:http://business.thequietresorts.com/events/details/groovy-nate-21716
END:VEVENT

END:VCALENDAR
