BEGIN:VCALENDAR
VERSION:2.0
PRODID:-//ChamberMaster//Event Calendar 2.0//EN
METHOD:PUBLISH
X-PUBLISHED-TTL:P3D
REFRESH-INTERVAL:P3D
CALSCALE:GREGORIAN
BEGIN:VEVENT
DTSTART:20230708T140000Z
DTEND:20230708T150000Z
X-MICROSOFT-CDO-ALLDAYEVENT:FALSE
SUMMARY:Groovy Nate
DESCRIPTION:ADMISSION: FREE\n\nGroovy Nate is a children's entertainer who creates fun and educational shows using funky grooves\, exotic musical instruments\, and comedy   a la Sesame Street meets Parliament/Funkadelic. He is also a Grammy nominated artist with the One Tribe Collective. Groovy Nate's shows encourage children and adults to move\, sing\, and play creatively with one another.  \n\n \n\nFreeman Arts Pavilion Young Audience Series receives generous support from PNC Foundation.
X-ALT-DESC;FMTTYPE=text/html:<h6>ADMISSION:&nbsp\;FREE</h6>\n\n<p>Groovy Nate is a children&rsquo\;s entertainer who creates fun and educational shows using funky grooves\, exotic musical instruments\, and comedy &mdash\; a la Sesame Street meets Parliament/Funkadelic. He is also a Grammy nominated artist with the One Tribe Collective. Groovy Nate&#39\;s shows encourage children and adults to move\, sing\, and play creatively with one another.&nbsp\;&nbsp\;<br />\n&nbsp\;</p>\n\n<p>Freeman Arts Pavilion Young Audience Series&nbsp\;receives generous support from PNC Foundation.</p>\n
LOCATION:Freeman Arts Pavilion a program of the Joshua M. Freeman Foundation is a champion of the arts on Delmarva\, providing diverse arts performances as well as arts access programs for local schools and the community at large. From June-September the Freeman Arts Pavilion is an open-air performance space showcasing music\, dance\, comedy\, theater\, children's programs\, and free events.
UID:e.2126.26093
SEQUENCE:3
DTSTAMP:20260420T230307Z
URL:http://business.thequietresorts.com/events/details/groovy-nate-07-08-2023-26093
END:VEVENT

END:VCALENDAR
