BEGIN:VCALENDAR
VERSION:2.0
PRODID:-//ChamberMaster//Event Calendar 2.0//EN
METHOD:PUBLISH
X-PUBLISHED-TTL:P3D
REFRESH-INTERVAL:P3D
CALSCALE:GREGORIAN
BEGIN:VEVENT
DTSTART:20240215T220000Z
DTEND:20240216T000000Z
X-MICROSOFT-CDO-ALLDAYEVENT:FALSE
SUMMARY:Greater Millsboro Chamber and Temple Bat Yam Networking Event
DESCRIPTION:Join Temple Bat Yam for a Business After Hours at the Greater Millsboro Chamber of Commerce.
X-ALT-DESC;FMTTYPE=text/html:Join Temple Bat Yam for a Business After Hours at the Greater Millsboro Chamber of Commerce.&nbsp\;
LOCATION:Greater Millsboro Chamber of Commerce 203 Main St. Millsboro\, DE 19966
UID:e.2126.28270
SEQUENCE:3
DTSTAMP:20260420T094514Z
URL:http://business.thequietresorts.com/events/details/greater-millsboro-chamber-and-temple-bat-yam-networking-event-28270
END:VEVENT

END:VCALENDAR
