BEGIN:VCALENDAR
VERSION:2.0
PRODID:-//ChamberMaster//Event Calendar 2.0//EN
METHOD:PUBLISH
X-PUBLISHED-TTL:P3D
REFRESH-INTERVAL:P3D
CALSCALE:GREGORIAN
BEGIN:VEVENT
DTSTART:20200624T193000Z
DTEND:20200625T000000Z
X-MICROSOFT-CDO-ALLDAYEVENT:FALSE
SUMMARY:Grand Opening & Ribbon Cutting - Millville Boardwalk
DESCRIPTION:Join the staff of the Millville Boardwalk for a Grand Opening Ribbon-Cutting and fun-filled afternoon of food\, ice cream\, music\, arcades\,  mini-golf and prize giveways!\n\n\n\nSample FREE ice cream from Agape Creamery \, giveaways and activities for kids of all ages.\n\n\n\nHocker's Food Truck  2pm to 8 pm\n\nLive music with Taylor Knox 5pm to 7pm
X-ALT-DESC;FMTTYPE=text/html:Join the staff of the Millville Boardwalk for a Grand Opening Ribbon-Cutting and fun-filled afternoon of food\, ice cream\, music\, arcades\,&nbsp\; mini-golf and&nbsp\;<span style="color: rgb(51\, 51\, 51)\; background-color: rgb(255\, 255\, 255)\;">prize giveways!<br />\n<br />\nSample FREE ice cream from Agape Creamery \, giveaways and activities for kids of all ages.</span><br />\n<br />\nHocker&#39\;s Food Truck&nbsp\; 2pm to 8 pm<br />\nLive music with Taylor Knox 5pm to 7pm<br />\n<br />\n&nbsp\;
LOCATION:The Millville Boardwalk 35287 Atlantic Ave\, Millville\, DE 19967
UID:e.2126.20280
SEQUENCE:3
DTSTAMP:20260425T180840Z
URL:http://business.thequietresorts.com/events/details/grand-opening-ribbon-cutting-millville-boardwalk-20280
END:VEVENT

END:VCALENDAR
