BEGIN:VCALENDAR
VERSION:2.0
PRODID:-//ChamberMaster//Event Calendar 2.0//EN
METHOD:PUBLISH
X-PUBLISHED-TTL:P3D
REFRESH-INTERVAL:P3D
CALSCALE:GREGORIAN
BEGIN:VEVENT
DTSTART:20200729T200000Z
DTEND:20200729T213000Z
X-MICROSOFT-CDO-ALLDAYEVENT:FALSE
SUMMARY:Grand Opening & Ribbon Cutting - Bay to Beach Builders Sales & Design Studio
DESCRIPTION:Bay to Beach Builders is excited and proud to announce the opening of their new Idea Home and State-of-the-Art Design Studio!\n\n\n\nCome out and enjoy refreshments\, door prizes and tour the Bay to Beach Builders innovative Idea Home.
X-ALT-DESC;FMTTYPE=text/html:<span style="font-family:arial\;"><span style="color: rgb(28\, 30\, 33)\; background-color: rgb(255\, 255\, 255)\;">Bay to Beach Builders is excited and proud to announce the opening of their new Idea Home and State-of-the-Art Design Studio!</span><br />\n<br />\nCome out and enjoy refreshments\, door prizes and tour the Bay to Beach Builders innovative Idea Home.</span>
LOCATION:Bay to Beach Builders 35745 Atlantic Ave\, Millville\, DE 19967
UID:e.2126.21696
SEQUENCE:3
DTSTAMP:20260425T163517Z
URL:http://business.thequietresorts.com/events/details/grand-opening-ribbon-cutting-bay-to-beach-builders-sales-design-studio-21696
END:VEVENT

END:VCALENDAR
